BEGIN:VCALENDAR
VERSION:2.0
PRODID:-//wp-events-plugin.com//7.2.3.1//EN
TZID:Australia/Sydney
X-WR-TIMEZONE:Australia/Sydney
BEGIN:VEVENT
UID:3103@unswoc.org
DTSTART;TZID=Australia/Sydney;VALUE=DATE:20221015
DTEND;TZID=Australia/Sydney;VALUE=DATE:20221016
DTSTAMP:20221009T201628Z
URL:https://unswoc.org/wordpress/events/saturday-bl-serendipity-canyon/
SUMMARY:SATURDAY BL - Serendipity Canyon
DESCRIPTION:Serendipity Canyon\n\nJoin Stephen\, Juri\, Margot and I on a g
 reat little canyon/chasm with a series of technical abseils\, beautiful sc
 enery and a great ending swim!\n\nWhat you need to know? Expect a great da
 y canyoning for around 8+ hrs round trip\, a cold swim/walk up the river a
 t the end\, and a scramble to exit.\n\nClassed a intermediate canyon\, its
  a good day! With low temperatures and high rainfall its quite wet – exp
 ect cold temperatures.\n\nTrack notes: https://ozultimate.com/canyoning/tr
 ack_notes/why_dont_we_do_it_in_the_road.htm\n\nEssential gear:\n\n 	Space 
 blanket/emergency blanket (mandatory).\n 	Headlamp (mandatory) w/ batterie
 s\n 	Lunch/snacks and water (1.5L) for 8 hrs of potential canyoning. Fueli
 ng yourselves is essential\n 	Spare dry clothes/thermals/jumper/beanie\n 	
 Dry bag to keep electronics/spare clothes warm.\n 	Appropriate clothing 
 – no cotton – when wet it loses heat fast! Think hiking clothes with b
 oardies/swim shorts to protect wetsuit from damage.\n 	Shoes with good gri
 p and suitable for water – trainers with warm socks.\n 	Wet-suit (BYO if
  you have one\, else borrow from Boree Log Gear Pool)\n 	Wet-suit booties/
 gloves (It will be cold)\n 	Helmet (BYO if you have one\, else borrow from
  Boree Log Gear Pool)\n 	Harness (BYO if you have one\, else borrow from B
 oree Log Gear Pool)\n 	Descender/ Figure 8 and Karabiner (BYO if you have 
 one\, else borrow from Boree Log Gear Pool)\n 	Safety Sling and Karabiner 
 (BYO if you have one\, else borrow from Boree Log Gear Pool)\n 	Small back
 pack to keep your drybag/gear. Expect it to get wet/scratched.\n 	Any medi
 cation/medical devices you need.\n\n&nbsp\;\n\nWe will be walking off from
  Cathedral of Ferns Camping area down to begin the Canyon.\n\nYou must be 
 approved for the main Boree Log event to join this trip.\n\nPlease comment
  any experience/hype/questions you have in the comment box below.
CATEGORIES:Boree Log,Canyoning
END:VEVENT
BEGIN:VTIMEZONE
TZID:Australia/Sydney
X-LIC-LOCATION:Australia/Sydney
BEGIN:DAYLIGHT
DTSTART:20221002T030000
TZOFFSETFROM:+1000
TZOFFSETTO:+1100
TZNAME:AEDT
END:DAYLIGHT
END:VTIMEZONE
END:VCALENDAR