BEGIN:VCALENDAR
VERSION:2.0
PRODID:-//wp-events-plugin.com//7.2.3.1//EN
TZID:Australia/Sydney
X-WR-TIMEZONE:Australia/Sydney
BEGIN:VEVENT
UID:3390@unswoc.org
DTSTART;TZID=Australia/Sydney;VALUE=DATE:20240316
DTEND;TZID=Australia/Sydney;VALUE=DATE:20240317
DTSTAMP:20240306T123502Z
URL:https://unswoc.org/wordpress/events/saturday-bl-serendipity-canyon-beg
 inner-intermediate/
SUMMARY:[FULL] SATURDAY BL – SERENDIPITY Beginner/Intermediate Canyon
DESCRIPTION:Make sure you read the entire description\, and bring all the r
 equired gearJoin Cindy and I on a great little canyon with a series of tec
 hnical abseils\, beautiful scenery and a great swim!Participants will need
  to be comfortable with abseiling\, cold swims\, and a reasonable walk in 
 and out.More info about the canyon here: https://ozultimate.com/canyoning
 /track_notes/why_dont_we_do_it_in_the_road.htm&nbsp\;\n\n 	Canyoning gear 
 provided at Boree Log event (If you have personal gear it is helpful to br
 ing this along):\n\n 	Harness*\n 	Helmet*\n 	3x locking carabiner*\n 	1x F
 igure 8 / Descender*\n 	1x Safety sling*\n 	Drybag*\n 	Wetsuit*\n\n\n 	Can
 yoning gear not provided:\n\n 	Emergency blanket (You must carry one on ev
 ery club canyoning trip. You must buy one from the gear cupboard for $5 ca
 sh or most outdoor stores)\n 	Backpack that can fit ALL your gear in and t
 hat can get wet\n\n\n\n\n 	Clothing:\n\n 	Enclosed shoes with good grip (o
 ld sneakers are best!)\n 	Wool / neoprene socks\n 	Boardshorts to wear on 
 top of wetsuit (compulsory to protect the club wetsuits)\n 	Thermals\n 	Gl
 oves (gardening gloves are ok)\n 	Swimmers\n 	NO COTTON! (this includes s
 ocks\, shirts\, pants\, undies\, etc)\n\n\n 	Food:\n\n 	2L of water.\n 	Lu
 nch\n 	Snacks (chocolate or something nice to share!)\n\n\n 	Miscellaneous
 :\n\n 	Any personal medicine (asthma puffer\, Epipen etc)\n 	A pair of tho
 ngs/flipflops to leave in the car (since your shoes will get wet) + towel 
 / change of clothes\n 	Phone or camera for photos (optional\, and only if 
 you’re prepared for it to get wet if your drybag leaks!)\n\n\n\nIf you h
 ave any questions\, message Cindy (https://www.facebook.com/Cindy.li27/) o
 n Facebook. Write down your canyoning / abseiling / rope skills / outdoor 
 experience in the comment when signing up\, your favourite geological feat
 ure (so we know you’ve read this far)\, and whether you have a car (and 
 how many spots).\n\nYou must be approved to the main Boree Log event to at
 tend these trips. If you get rejected then you can sign up for another tri
 p\, this just makes it easier for volunteer trip leaders. Please be aware 
 that as the weather is unpredictable\, trip leaders may need to alter trip
 s accordingly.\n\n
LOCATION:https://maps.app.goo.gl/A2P8DptJnwG77YRu5
END:VEVENT
BEGIN:VTIMEZONE
TZID:Australia/Sydney
X-LIC-LOCATION:Australia/Sydney
BEGIN:DAYLIGHT
DTSTART:20231001T030000
TZOFFSETFROM:+1000
TZOFFSETTO:+1100
TZNAME:AEDT
END:DAYLIGHT
END:VTIMEZONE
END:VCALENDAR