BEGIN:VCALENDAR
VERSION:2.0
PRODID:-//wp-events-plugin.com//7.2.3.1//EN
TZID:Australia/Sydney
X-WR-TIMEZONE:Australia/Sydney
BEGIN:VEVENT
UID:3671@unswoc.org
DTSTART;TZID=Australia/Sydney:20251018T090000
DTEND;TZID=Australia/Sydney:20251018T170000
DTSTAMP:20251015T234116Z
URL:https://unswoc.org/wordpress/events/saturday-bl-serendipity-beginner-i
 ntermediate-canyon/
SUMMARY:SATURDAY BL – SERENDIPITY Beginner/Intermediate Canyon
DESCRIPTION:Make sure you read the entire description\, and bring all the r
 equired gear.Join Lachlan and I on a great canyon with a series of technic
 al abseils\, beautiful scenery and a great swim! Participants will need to
  be comfortable with abseiling\, cold swims\, and a reasonable walk in and
  out. More info about the canyon here: https://ozultimate.com/canyoning/tr
 ack_notes/why_dont_we_do_it_in_the_road.htm The day will take 5-8 hours a
 nd will be cold and wet. We will walk in for 1 hour in hiking clothes\, ch
 ange into wetsuits at the start of the canyon for several hours\, and then
  walk back for 90 minutes. Bring appropriate clothes to walk across rough 
 terrain.\n\n\n\n 	Canyoning gear not provided:\n\n 	Emergency blanket (You
  must carry one on every club canyoning trip. You must buy one from the ge
 ar cupboard for $5 cash or most outdoor stores)\n 	Backpack that can fit A
 LL your gear in and that can get wet\n 	Headtorch\n\n\n 	Clothing:\n\n 	En
 closed shoes with good grip\n 	Wool / neoprene socks\n 	Boardshorts to wea
 r on top of wetsuit (compulsory to protect the club wetsuits)\n 	Thermals\
 n 	Gloves (gardening or thin gloves for splinters)\n 	NO COTTON! (this in
 cludes socks\, shirts\, pants\, etc)\n\n\n 	Food:\n\n 	2L of water.\n 	Lun
 ch\n 	Snacks (chocolate or something nice to share!)\n\n\n 	Miscellaneous:
 \n\n 	Any personal medicine (asthma puffer\, Epipen etc)\n 	Phone or camer
 a for photos (optional\, and only if you’re prepared for it to get wet i
 f your drybag leaks!)\n\n\n 	Canyoning gear provided at Boree Log event (I
 f you have personal gear it is helpful to bring this along):\n\n 	Harness*
 \n 	Helmet*\n 	3x locking carabiner*\n 	1x Figure 8 / Descender*\n 	1x Saf
 ety sling*\n 	Drybag*\n 	Wetsuit*\n\n\n\nIf you have any questions\, messa
 ge me on Facebook. Write down your canyoning / abseiling / rope skills / o
 utdoor experience in the comment when signing up\, your favourite geologic
 al feature (so we know you’ve read this far).\n\nYou need to be approved
  for the main Boree Log event to attend these trips. Please sign up for on
 ly ONE trip per day. If you get rejected you can then sign up for another 
 trip\, this just makes it easier for volunteer trip leaders. Please be awa
 re that as the weather is unpredictable\, trip leaders may need to alter t
 rips accordingly\n\n
CATEGORIES:Boree Log,Canyoning
LOCATION:https://maps.app.goo.gl/7TMS8euiY5PCyD437
END:VEVENT
BEGIN:VTIMEZONE
TZID:Australia/Sydney
X-LIC-LOCATION:Australia/Sydney
BEGIN:DAYLIGHT
DTSTART:20251005T030000
TZOFFSETFROM:+1000
TZOFFSETTO:+1100
TZNAME:AEDT
END:DAYLIGHT
END:VTIMEZONE
END:VCALENDAR