BEGIN:VCALENDAR
VERSION:2.0
PRODID:-//wp-events-plugin.com//7.2.3.1//EN
TZID:Australia/Sydney
X-WR-TIMEZONE:Australia/Sydney
BEGIN:VEVENT
UID:3746@unswoc.org
DTSTART;TZID=Australia/Sydney:20260321T073000
DTEND;TZID=Australia/Sydney:20260321T180000
DTSTAMP:20260319T042524Z
URL:https://unswoc.org/wordpress/events/saturday-bl-ranon-canyon-intermedi
 ate/
SUMMARY:[FULL] Saturday BL - Ranon Canyon [Intermediate]
DESCRIPTION:“You need to be approved for the main Boree Log event to atte
 nd these trips. Please sign up for only ONE trip per day. If you get rejec
 ted you can then sign up for another trip\, this just makes it easier for 
 volunteer trip leaders. Please be aware that as the weather is unpredictab
 le\, trip leaders may need to alter trips accordingly”\n\nJoin Alex &amp
 \; I (Phoebe) in Ranon and start Boree Log off the right way (in a canyon)
 !\n\nThis is an intermediate canyon so you'll need to have some canyoning 
 experience and be confident abseiling. This is a wet canyon and we'll be s
 wimming up to 50m in the dark so you'll need to have strong swimming abili
 ties. Experience with scrambling &amp\; good physical fitness are also req
 uired since it'll be a long day.\n\nWe will meet at Cathedral Reserve at 7
 :30am - consider driving up &amp\; camping Friday night. If you have a car
  please let us know how many spots you have. So we know you've read the wh
 ole post answer this in your comment: What is your go to canyon snack?\n\n
 &nbsp\;\nWhat to bring:\n\n 	Modified Eight or Figure Eight style descende
 r *\n 	Helmet *\n 	Canyoning Harness *\n 	Full length wetsuit *\n 	3x Lock
 ing Carabiners *\n 	Safety (a 120cm sling works) *\n 	Drybag or keg *\n 	C
 anyon pack *\n 	Headtorch\n 	Emergency blanket (can be bought from gear cu
 pboard for $5)\n 	Swimmers (for under your wetsuit)\n 	Wool or wetsuit soc
 ks\n 	Thermals\n 	Raincoat\n 	Old shoes with good grip\n 	2L of water\n 	L
 unch\n 	Snacks\n 	Hiking clothes (will get wet on the walk out)\n 	Dry clo
 thes and a towel (for the car)\n 	Medications you require (e.g asthma puff
 er\, epipen)\n\nGear with a * can be borrowed on the day\, you don't need 
 to borrow anything from the gear cupboard. If you have your own gear pleas
 e bring it. Nothing you wear in the canyon can be cotton\, this includes s
 ocks and underwear!\nIn your comment please let us know:\n\n 	Your fitness
 \n 	Your swimming ability\n 	Your canyoning / outdoor experience\n 	Any fo
 od allergies or dietary preferences (so we know what sharable snacks to br
 ing)\n\nPlease message Alex or Myself on Facebook with any questions.
CATEGORIES:Boree Log,Canyoning
LOCATION:https://maps.app.goo.gl/VHbr8EiFv45JKY7f9
END:VEVENT
BEGIN:VTIMEZONE
TZID:Australia/Sydney
X-LIC-LOCATION:Australia/Sydney
BEGIN:DAYLIGHT
DTSTART:20251005T030000
TZOFFSETFROM:+1000
TZOFFSETTO:+1100
TZNAME:AEDT
END:DAYLIGHT
END:VTIMEZONE
END:VCALENDAR