BEGIN:VCALENDAR
VERSION:2.0
PRODID:-//wp-events-plugin.com//7.2.3.1//EN
TZID:Australia/Sydney
X-WR-TIMEZONE:Australia/Sydney
BEGIN:VEVENT
UID:3532@unswoc.org
DTSTART;TZID=Australia/Sydney;VALUE=DATE:20250322
DTEND;TZID=Australia/Sydney;VALUE=DATE:20250323
DTSTAMP:20250525T063913Z
URL:https://unswoc.org/wordpress/events/saturday-bl-porters-pass-hike/
SUMMARY:[FULL] SATURDAY BL - PORTERS PASS Hike
DESCRIPTION:THIS TRIP IS NOW FULL!\nPlease Note: You need to be approved fo
 r the main Boree Log event to attend these trips. Please sign up for only 
 ONE trip per day. If you get rejected you can then sign up for another tri
 p\, this just makes it easier for volunteer trip leaders. Please be aware 
 that as the weather is unpredictable\, trip leaders may need to alter trip
 s accordingly\n\n\n\nHellooooo!\n\nCaity and I (Sudarshan) will be leading
  a beginner-friendly hike through the Porters Pass and Colliers Causeway t
 rack in Blackheath.\n\nIt is possibly my favourite day hike in the Blue Mo
 untains\, featuring waterfalls\, a micro-canyon\, an optional swim\, rainf
 orests\, dry heath\, clifftop\, and cliffside paths!!!\n\nIt has a total l
 ength of about 7km and elevation gain of 400m\, and I expect it to take ab
 out 5 hours.\n\nThis trail will require good fitness as there are steep se
 ctions\, however we will not be in a rush.\n\nCheck out the track here - h
 ttps://hikingtheworld.blog/2023/05/14/ar-porters-pass-colliers-causeway\n\
 n&nbsp\;\n\nWhat to bring:\n\n 	Sturdy shoes!\n\n 	This is not your averag
 e tourist track and there are a few less maintained sections so hiking boo
 ts would be great.\n\n\n 	Small-medium sized backpack to hold your belongi
 ngs\n 	At least 2L of water **super important to have enough water!!**\n 	
 Lunch and snacks for the day\n 	Sun protection: sunscreen + hat\n 	Change 
 of clothes / swimmers / towel (if you wish to swim)\n 	Any personal medica
 tion you may need\n\n&nbsp\;\n\nSo\, if you are keen for a hike\, please t
 ell us your hiking experience so far\, if you could be an animal for a da
 y what you would choose (just so we know you’ve read all this informati
 on) and whether you have a car in your comment below… and get in early
  before signups are full.\n\nIf you have any questions\, feel free to reac
 h out to me\, Sudarshan – my facebook is here (yes it's under a pseudony
 m)
CATEGORIES:Boree Log,Hectic Hiking
LOCATION:https://www.google.com/maps/place/30+Bundarra+St,+Blackheath+NSW+2
 785/
END:VEVENT
BEGIN:VTIMEZONE
TZID:Australia/Sydney
X-LIC-LOCATION:Australia/Sydney
BEGIN:DAYLIGHT
DTSTART:20241006T030000
TZOFFSETFROM:+1000
TZOFFSETTO:+1100
TZNAME:AEDT
END:DAYLIGHT
END:VTIMEZONE
END:VCALENDAR