BEGIN:VCALENDAR
VERSION:2.0
PRODID:-//wp-events-plugin.com//7.2.3.1//EN
TZID:Australia/Sydney
X-WR-TIMEZONE:Australia/Sydney
BEGIN:VEVENT
UID:3673@unswoc.org
DTSTART;TZID=Australia/Sydney:20251018T080000
DTEND;TZID=Australia/Sydney:20251018T150000
DTSTAMP:20251008T103057Z
URL:https://unswoc.org/wordpress/events/saturday-bl-porters-pass-hike-walk
 /
SUMMARY:SATURDAY BL - PORTERS PASS Hike
DESCRIPTION:You need to be approved for the main Boree Log event to attend 
 these trips. Please sign up for only ONE trip per day. If you get rejected
  you can then sign up for another trip\, this just makes it easier for vol
 unteer trip leaders. Please be aware that as the weather is unpredictable\
 , trip leaders may need to alter trips accordingly.\n\n&nbsp\;\n\nDan\, I 
 (Rory) and if circumstances permit\, my dog Loki (Known by Brandon to some
 )\, will be leading a beginner-friendly hike through the Porters Pass and 
 Colliers Causeway track in Blackheath.\n\nIt is possibly my favourite day 
 hike in the Blue Mountains\, featuring waterfalls\, a micro-canyon\, an op
 tional swim\, rainforests\, dry heath\, clifftop\, and cliffside paths!!
 !\n\nIt has a total length of about 7km and elevation gain of 400m\, and I
  expect it to take about 5 hours.\n\nThis trail will require good fitness 
 as there are steep sections\, however we will not be in a rush. For most t
 his will be a laid back hike\, with plenty of time for hanging out and rec
 reation.\n\nCheck out the track here – https://hikingtheworld.blog/2023
 /05/14/ar-porters-pass-colliers-causeway\n\n&nbsp\;\n\nWhat to bring:\n\n 
 	Sturdy shoes!\n\n 	This is not your average tourist track and there are a
  few less maintained sections so hiking boots would be great.\n\n\n 	Small
 -medium sized backpack to hold your belongings\n 	At least 2L of water **s
 uper important to have enough water!!**\n 	Lunch and snacks for the day\n 
 	Sun protection: sunscreen + hat\n 	Change of clothes / swimmers / towel (
 if you wish to swim)\n 	Any personal medication you may need\n\n&nbsp\;\n\
 nSo\, if you are keen for a hike\, please tell us your hiking experience
  so far\, if you could be an animal for a day what you would choose (jus
 t so we know you’ve read all this information) and whether you have a c
 ar in your comment below… and get in early before signups are full.\n\n
 Here's a photo of Loki snuggled up in a blanket by the fire for your perus
 al\;
CATEGORIES:Boree Log,Bushwalking,Hectic Hiking
LOCATION:https://maps.app.goo.gl/aQHYWpG8hZ7d51Jw6
END:VEVENT
BEGIN:VTIMEZONE
TZID:Australia/Sydney
X-LIC-LOCATION:Australia/Sydney
BEGIN:DAYLIGHT
DTSTART:20251005T030000
TZOFFSETFROM:+1000
TZOFFSETTO:+1100
TZNAME:AEDT
END:DAYLIGHT
END:VTIMEZONE
END:VCALENDAR