BEGIN:VCALENDAR
VERSION:2.0
PRODID:-//wp-events-plugin.com//7.2.3.1//EN
TZID:Australia/Sydney
X-WR-TIMEZONE:Australia/Sydney
BEGIN:VEVENT
UID:3333@unswoc.org
DTSTART;TZID=Australia/Sydney;VALUE=DATE:20231014
DTEND;TZID=Australia/Sydney;VALUE=DATE:20231015
DTSTAMP:20231012T132853Z
URL:https://unswoc.org/wordpress/events/saturday-bl-point-perpendicular-tr
 ad-top-rope-climbing/
SUMMARY:[FULL] SATURDAY BL - POINT PERPENDICULAR Trad/Top rope Climbing
DESCRIPTION:Hey everyone!\n\nOn Saturday of Boree Log Margot and I (Amelia)
  will be taking a group to Point Perpendicular for some trad or top rope c
 limbing!\n\nThis is a beginner friendly trip with amazing sea cliff views!
  Whether you are new to climbing all together or would like to learn or pr
 actice some trad (Traditional climbing which involves placing your own gea
 r (cams and nuts) into cracks as protection)\, sign ups can be found below
 . MAKE SURE YOU READ ALL THE INFORMATION FIRST.\n\nWe approach the climbs 
 from the top of the cliff\, where we can set up top ropes\, then abseil do
 wn to climb back up. You can check out the crag page here: https://www.the
 crag.com/en/climbing/australia/point-perpendicular\n\n\n\nPoint Perp is ro
 ughly 1.5 hr drive away from Bendeela Campground where we will be staying 
 and we will organise car pooling so please tell us in the sign up comment 
 if you have a car and how many people you can take.\n\nWe will head back t
 o Bendeela in the afternoon/evening\, ready for party and Sunday trips.\n\
 n&nbsp\;\n\nSince this is a Boree Log trip\, gear such as harnesses\, helm
 ets\, belay devices will be provided\, but if you have your own please bri
 ng it.\n\nWhat YOU need to bring:\n\n 	climbing shoes\n 	chalk (optional)\
 n 	food/snacks for the day\n 	at least 2L water\n 	warm jacket (sea breeze
  can be strong and very chilly)\n 	sunscreen\n 	bag to carry everything (i
 ncluding harness\, helmet etc which we can give you)\n\n&nbsp\;\n\nIf you 
 have read all of this information and this sounds like a trip you're keen 
 for\, you can sign up below.\n\nNOTE Australian Citizens - This trip falls
  on the day of the 2023 Australian Indigenous Voice Referendum. If you are
  an Australian citizen you are required to vote so you must have done this
  beforehand! WE WILL NOT BE TAKING PEOPLE TO FIND VOTING CENTRES!\n\nYou n
 eed to be approved for the main Boree Log event to attend these trips. Ple
 ase sign up for only ONE trip per day. If you get rejected you can then si
 gn up for another trip\, this just makes it easier for volunteer trip lead
 ers. Please be aware that as the weather is unpredictable\, trip leaders m
 ay need to alter trips accordingly.\n\nPlease include in the comment: your
  experience (climbing experience and whether you have abseiling experience
 )\, whether you are interested in top rope climbing or trad\, anything els
 e you would like to learn\, whether you have a car and how many people you
  can take\, and name your favourite climbing snack (just so we know you ha
 ve read all of this information).\n\n&nbsp\;\n\nIf you have any questions 
 please feel free to message Margot or I.\n\nThanks\,\n\nAmelia\n\n&nbsp\;\
 n\n&nbsp\;
CATEGORIES:Boree Log,Climbing,Outdoor Climbing
LOCATION:https://www.google.com/maps/place/Point+Perpendicular/@-35.0939343
 ,150.7836354,14z/data=!3m1!4b1!4m6!3m5!1s0x6b14907ab556fdab:0x4c804fbbe06f
 f6cc!8m2!3d-35.0939365!4d150.804235!16s%2Fm%2F025wh2f?entry=ttu
END:VEVENT
BEGIN:VTIMEZONE
TZID:Australia/Sydney
X-LIC-LOCATION:Australia/Sydney
BEGIN:DAYLIGHT
DTSTART:20231001T030000
TZOFFSETFROM:+1000
TZOFFSETTO:+1100
TZNAME:AEDT
END:DAYLIGHT
END:VTIMEZONE
END:VCALENDAR