BEGIN:VCALENDAR
VERSION:2.0
PRODID:-//wp-events-plugin.com//7.2.3.1//EN
TZID:Australia/Sydney
X-WR-TIMEZONE:Australia/Sydney
BEGIN:VEVENT
UID:3742@unswoc.org
DTSTART;TZID=Australia/Sydney:20260321T100000
DTEND;TZID=Australia/Sydney:20260321T143000
DTSTAMP:20260318T013639Z
URL:https://unswoc.org/wordpress/events/saturday-bl-mtb-single-track-black
 heath/
SUMMARY:SATURDAY BL – MTB Single Track @ Blackheath
DESCRIPTION:Howdy legends\,\nLachlan T and I(Hammy) are heading out to the 
 Blackheath Hanging Rock mountain bike trails on Saturday\, 21st March\, fo
 r some cruisy track runs and good times. It’s a mix of fun singletrack a
 nd cross-country loops\, nothing too outrageous\, just enough to keep it s
 picy and keep us honest.\n“You need to be approved for the main Boree Lo
 g event to attend these trips. Please sign up for only ONE trip per day. I
 f you get rejected you can then sign up for another trip\, this just makes
  it easier for volunteer trip leaders. Please be aware that as the weather
  is unpredictable\, trip leaders may need to alter trips accordingly”\nM
 eeting time: 10:00 am at the entrance\nYou must bring your own mountain bi
 ke. The club does not have mountain bikes to rent out (yet)\, so you’ll 
 need to sort your own setup either through rental companies or ask a frien
 d really\, really nicely.\nWhat to bring:• Mountain bike• Helmet\, abs
 olutely essential• At least 2L of water• Snacks and lunch• Sun prote
 ction and comfy riding gear\nWhen you comment to join\, tell us which bike
  you’ll be riding and whether you have a bike carrier? [We will figure o
 ut how we are getting the bikes there and back after you are accepted]\nHi
 dden question (answering helps you get priority): How many 5 year olds can
  you carry at once\, no rules? \nOnce you’ve been accepted onto the tri
 p\, we will create a Messenger group chat to organise carpooling and how t
 o get the bikes to the camp and back\, so please make sure your Facebook p
 rofile is linked to your UNSWOC account.\n\nIf you have any questions\, fe
 el free to message me.\nLet’s hit some tracks and show off some skills
CATEGORIES:Boree Log
LOCATION:https://maps.app.goo.gl/seykynYYWdiP3Tj37
END:VEVENT
BEGIN:VTIMEZONE
TZID:Australia/Sydney
X-LIC-LOCATION:Australia/Sydney
BEGIN:DAYLIGHT
DTSTART:20251005T030000
TZOFFSETFROM:+1000
TZOFFSETTO:+1100
TZNAME:AEDT
END:DAYLIGHT
END:VTIMEZONE
END:VCALENDAR