BEGIN:VCALENDAR
VERSION:2.0
PRODID:-//wp-events-plugin.com//7.2.3.1//EN
TZID:Australia/Sydney
X-WR-TIMEZONE:Australia/Sydney
BEGIN:VEVENT
UID:3542@unswoc.org
DTSTART;TZID=Australia/Sydney;VALUE=DATE:20250322
DTEND;TZID=Australia/Sydney;VALUE=DATE:20250323
DTSTAMP:20250320T020502Z
URL:https://unswoc.org/wordpress/events/saturday-bl-mt-piddington-beginner
 -intermediate-trad-climbing/
SUMMARY:SATURDAY BL - MT PIDDINGTON Beginner/Intermediate Trad climbing
DESCRIPTION:Hey everyone\,\n\nKeith\, Arthur\, Melissa and I will be headin
 g to Mount Piddington for a beginner/intermediate trad climbing trip on Sa
 turday. Trad climbing involves placing your own protection (cams and nuts)
  in the rock as you go\, rather than clipping bolts like sport climbing. H
 aving some prior skills such as lead climbing and belaying will help you g
 et the most out of this trip but are not essential. We can set up top rope
 s if you want to practice mock leading or practice placing gear. Check out
  the Crag page here.\n\nGear you will need (if you don't have your own it 
 can be provided at Boree log):\n\n 	Harness\n 	Helmet\n 	Belay device + lo
 cking carabiner (ATC\, Gri Gri etc. )\n 	Safety (eg sling and locking cara
 biner)\n 	Climbing shoes\n\nYOU must bring:\n\n 	2L water\n 	sunscreen\n 	
 food and snacks for the day\n 	warm clothes\n 	backpack to carry everythin
 g\n 	chalk\, if you have it/want it (this can't be borrowed on the day)\n\
 nYou need to be approved for the main Boree Log event to attend these trip
 s. Please sign up for only ONE trip per day. If you get rejected you can t
 hen sign up for another trip\, this just makes it easier for volunteer tri
 p leaders. Please be aware that as the weather is unpredictable\, trip lea
 ders may need to alter trips accordingly.\n\nIf you are keen\, please incl
 ude in your sign up comment your experience\, if you have a car\, and your
  favourite place you have camped :))\n\nIf you have any questions feel fre
 e to send one of us a message.\n\nCheers\,\n\nAmelia
CATEGORIES:Boree Log,Outdoor Climbing
LOCATION:https://www.google.com/maps/place/33%C2%B035'60.0%22S+150%C2%B015'
 25.6%22E/@-33.5999849,150.2564743,182m/data=!3m2!1e3!4b1!4m4!3m3!8m2!3d-33
 .599986!4d150.257118?entry=ttu&g_ep=EgoyMDI0MTAyOS4wIKXMDSoASAFQAw%3D%3D
END:VEVENT
BEGIN:VTIMEZONE
TZID:Australia/Sydney
X-LIC-LOCATION:Australia/Sydney
BEGIN:DAYLIGHT
DTSTART:20241006T030000
TZOFFSETFROM:+1000
TZOFFSETTO:+1100
TZNAME:AEDT
END:DAYLIGHT
END:VTIMEZONE
END:VCALENDAR