BEGIN:VCALENDAR
VERSION:2.0
PRODID:-//wp-events-plugin.com//7.2.3.1//EN
TZID:Australia/Sydney
X-WR-TIMEZONE:Australia/Sydney
BEGIN:VEVENT
UID:3093@unswoc.org
DTSTART;TZID=Australia/Sydney;VALUE=DATE:20221015
DTEND;TZID=Australia/Sydney;VALUE=DATE:20221016
DTSTAMP:20221008T050230Z
URL:https://unswoc.org/wordpress/events/saturday-bl-mount-piddington-trad-
 climbing/
SUMMARY:SATURDAY BL - MOUNT PIDDINGTON Trad Climbing
DESCRIPTION:You need to be approved for the main Boree Log event to attend 
 these trips. Please signup for only ONE trip per day. If you get rejected 
 you can then sign up for another trip\, this justmakes it easier for volun
 teer trip leaders.\n\nOn the SATURDAY of Boree Log myself (Jenny) and Pat 
 will be leading a climbing trip to Mt. Piddington during the Saturday of B
 oree Log. Mt. Piddington is the perfect introductory crag to Trad climbing
 . For anyone new to outdoor climbing\, trad climbing involves placing you
 r own gear in the rock for protection\, so there are no permanent fixed bo
 lts in the rock.\n\nNo climbing experience is required as we'll set up the
  climbs for you to second or top rope. We will also try our best to tailor
  the trip to the vibe of the group! We are happy to teach you the fundame
 ntals of trad climbing. We will collect the gear needed for the trip on Sa
 turday morning at the campground but please bring along any climbing gear 
 you might have.\n\nWe will meet up at 8:00am on Saturday morning at the Bo
 ree Log campground near the trailer. Any gear that you require will be col
 lected together on Saturday morning from the trailer.\n\n 	Gear: harness\,
  helmet\, climbing shoes\, ATC + carabiner (if you have your own make sure
  you bring it!!!)\, climbing tape or crack gloves to protect your hands (n
 ot essential).\n 	What to bring: sunscreen\, 2L water (minimum!)\, food fo
 r the day\, sporty clothes\, a warm jacket\, a day backpack to fit all you
 r stuff inside\, comfortable shoes to hike in\, snacks to share\, etc.\n 	
 Meeting point: 8:00am at Boree Log Trailer (Cathedral of Ferns Campground
 \, Mt Wilson).\n\nIn the comments box\, please tell us about your previous
  climbing experience\, whether you will be driving your own car to Boree L
 og and your favourite Halloween treat to be considered for this trip :)\n\
 nPlease be aware that as the weather is unpredictable\, trip leaders may n
 eed to alter trips accordingly. Fingers crossed for some good weather!!\n\
 nAny questions\, shoot me a fb message or put your question in the comment
 s box. Otherwise\, get keen!!!\n\nThanks Tad for the trip template!\n\n
CATEGORIES:Boree Log,Outdoor Climbing
END:VEVENT
BEGIN:VTIMEZONE
TZID:Australia/Sydney
X-LIC-LOCATION:Australia/Sydney
BEGIN:DAYLIGHT
DTSTART:20221002T030000
TZOFFSETFROM:+1000
TZOFFSETTO:+1100
TZNAME:AEDT
END:DAYLIGHT
END:VTIMEZONE
END:VCALENDAR