BEGIN:VCALENDAR
VERSION:2.0
PRODID:-//wp-events-plugin.com//7.2.3.1//EN
TZID:Australia/Sydney
X-WR-TIMEZONE:Australia/Sydney
BEGIN:VEVENT
UID:3398@unswoc.org
DTSTART;TZID=Australia/Sydney;VALUE=DATE:20240316
DTEND;TZID=Australia/Sydney;VALUE=DATE:20240317
DTSTAMP:20240303T081758Z
URL:https://unswoc.org/wordpress/events/saturday-bl-mount-banks-summit-day
 -hike/
SUMMARY:SATURDAY BL - MOUNT BANKS SUMMIT Hike
DESCRIPTION:SATURDAY BOREE LOG – Hiking Mount Banks Summit Loop\n\nLeo\,
  Sarry and I (Lloyd) will be leading a beginner/intermediate hiking trip t
 o Mount Banks Summit. \n\n\n\nIt's a stunning 15 km hike that has spectacu
 lar panoramic views of the Grose Valley and tracks across ridge lines and 
 plateaus\, which would take approximately 5-6 hours to complete (find all 
 the details here: https://www.nationalparks.nsw.gov.au/things-to-do/walkin
 g-tracks/pierces-pass-to-blue-gum-forest-walking-track). Also\, Leo will 
 be providing commentary along the hike\, if you are interested to learn ab
 out Australian plants and native ecology!\n\nAfter camp roll call Saturday
  morning\, the plan is to drive from the campground where we are camping (
 Cathedral Reserve at Mount Wilson) to the start of the hike (20 min drive)
 \, spend an awesome day out and head back to the campground in the evening
 . You will need:\n\n 	For clothing: Comfortable hiking shoes and sport clo
 thes. It can get quite hot (hat)\, quite chilly (fleece) or quite wet (rai
 ncoat)\, so be prepared!\n 	For eating: 2-3 litres of water\, lunch and sn
 acks. Don’t underestimate the amount of water\, there is no refill!\n 	O
 ther gear: a headtorch (compulsory)\, sunscreen\, any personal medication 
 you might normally carry with you (asthma puffer\, etc)\, a phone full of 
 battery\, a backpack to fit everything.\n\nIf you have any questions\, loo
 k for Lloyd Siharath or Leo Lovesy on the UNSWOC Facebook page and send us
  a message! Trip sign-up requests will be approved by Saturday 9th March.\
 n\nHow do I come along?\n\nIn the comments\, please let us know what hikes
  you’ve done\, why you’re keen for this hike\, what your favourite tra
 il snack is\, and whether you have A CAR 🙂. See you there!\n\nYou need 
 to be approved for the main Boree Log event to attend these trips. Please 
 sign up for only ONE trip per day. If you get rejected you can then sign u
 p for another trip\, this just makes it easier for volunteer trip leaders.
  Please be aware that as the weather is unpredictable\, trip leaders may n
 eed to alter trips accordingly.
CATEGORIES:Boree Log,Hectic Hiking
LOCATION:https://www.google.com/maps/place/Cathedral+Reserve+Camping+Ground
 s/@-33.5020675,150.3893143,18z/data=!3m1!4b1!4m6!3m5!1s0x6b0d880f2c3a4669:
 0xbd44ae57623e5b31!8m2!3d-33.5020693!4d150.3903527!16s%2Fg%2F11c6tt6qvh?en
 try=ttu
END:VEVENT
BEGIN:VTIMEZONE
TZID:Australia/Sydney
X-LIC-LOCATION:Australia/Sydney
BEGIN:DAYLIGHT
DTSTART:20231001T030000
TZOFFSETFROM:+1000
TZOFFSETTO:+1100
TZNAME:AEDT
END:DAYLIGHT
END:VTIMEZONE
END:VCALENDAR