BEGIN:VCALENDAR
VERSION:2.0
PRODID:-//wp-events-plugin.com//7.2.3.1//EN
TZID:Australia/Sydney
X-WR-TIMEZONE:Australia/Sydney
BEGIN:VEVENT
UID:3477@unswoc.org
DTSTART;TZID=Australia/Sydney:20241012T100000
DTEND;TZID=Australia/Sydney:20241012T150000
DTSTAMP:20240925T073541Z
URL:https://unswoc.org/wordpress/events/saturday-bl-mount-banks-hike/
SUMMARY:SATURDAY BL - MOUNT BANKS Hike
DESCRIPTION:You need to be approved for the main Boree Log event to attend 
 these trips. Please sign up for only ONE trip per day. If you get rejected
  you can then sign up for another trip\, this just makes it easier for vol
 unteer trip leaders. Please be aware that as the weather is unpredictable\
 , trip leaders may need to alter trips accordingly\n\n&nbsp\;\n\nHey Every
 one!\n\nNick and I will be running a beginner hiking trip around Mount Ban
 ks on the Saturday of Boree Log. Provided we have good weather\, we should
  have some excellent views of the Grose Valley. The hike will be about 12k
 m and 4-5 hours long so you will need a moderate level of fitness but the 
 track is relatively easy and sutible for beginners. We'll gather at the ca
 mpground on Saturday morning before driving 20 minutes to the trailhead\, 
 complete the hike\, and return to the campground in the afternoon.\n\nWhat
  to bring:\n\n 	Clothes appropriate for hiking\n 	Comfortable walking shoe
 s\, ideally hiking boots\n 	Backpack to hold your belongings\n 	Sun protec
 tion: Sunscreen/Hat/Sunnies\n 	A warm jumper and rain jacket in case of ba
 d weather\n 	At least 2L of water (remember to bring this to the campgroun
 d as there is no drinking water available)\n 	Lunch and snacks\n 	Any pers
 onal medication you may need\n\nIn the comments let us know your hiking ex
 perience\, if you have a car and how many people you can take\, and if you
  could best friends with any movie character\, who would it be?\n\nIf you 
 have any questions\, feel free to contact Nick or myself.\n\nGet keen!!\n\
 nSophia and Nick
ATTACH;FMTTYPE=image/jpeg:https://unswoc.org/wordpress/wp-content/uploads/
 2024/09/IMG_1484-1.jpeg
CATEGORIES:Boree Log,Hectic Hiking
LOCATION:https://www.google.com/maps/place/Mount+Banks+Summit+walk/@-33.579
 0725,150.3645605,18.74z/data=!4m6!3m5!1s0x6b12773710d673d1:0xd7b31fadfb48d
 8b3!8m2!3d-33.579888!4d150.3644022!16s%2Fg%2F11bwp1rw80?entry=ttu&g_ep=Ego
 yMDI0MDkxOC4xIKXMDSoASAFQAw%3D%3D
END:VEVENT
BEGIN:VTIMEZONE
TZID:Australia/Sydney
X-LIC-LOCATION:Australia/Sydney
BEGIN:DAYLIGHT
DTSTART:20241006T030000
TZOFFSETFROM:+1000
TZOFFSETTO:+1100
TZNAME:AEDT
END:DAYLIGHT
END:VTIMEZONE
END:VCALENDAR