BEGIN:VCALENDAR
VERSION:2.0
PRODID:-//wp-events-plugin.com//7.2.3.1//EN
TZID:Australia/Sydney
X-WR-TIMEZONE:Australia/Sydney
BEGIN:VEVENT
UID:3537@unswoc.org
DTSTART;TZID=Australia/Sydney;VALUE=DATE:20250322
DTEND;TZID=Australia/Sydney;VALUE=DATE:20250323
DTSTAMP:20250318T094726Z
URL:https://unswoc.org/wordpress/events/saturday-bl-mezzaluna-beginner-spo
 rt-climbing/
SUMMARY:SATURDAY BL - MEZZALUNA Beginner Sport Climbing
DESCRIPTION:Hey everyone!\n\nAaron and I will be running a sport climbing t
 rip to Mezzaluna in the Mount York Area on the Saturday of Boree Log. The
  grades are mostly in the 15-19 range and you can check out the climbs her
 e. Mezzaluna is a very beginner friendly crag and we'll be setting up top 
 ropes so everyone is welcome\, no outdoor climbing experience necessary.\n
 \n\nA cool club member climbing at Mezzaluna!\nWhat to bring:\n\n 	Minimum
  2L of water\n 	Food for the day\n 	Clothes appropriate for climbing (shou
 ld be comfortable\, allow unrestricted movement\, and be alright if they g
 et dirty/torn)\n 	Sunscreen\n 	Warm weather gear incase it gets cold\n 	Da
 y backpack to carry your belongings\n 	Climbing harness\n 	Climbing helmet
 \n 	Climbing shoes\n 	Belay device (eg ATC) and locking carabiner\n\nItems
  in bold can be borrowed on the day if you do not have your own. You DO 
 NOT need to collect them from the gear cupboard prior to Boree Log.\n\n&nb
 sp\;\n\nYou need to be approved for the main Boree Log event to attend the
 se trips. Please sign up for only ONE trip per day. If you get rejected yo
 u can then sign up for another trip\, this just makes it easier for volunt
 eer trip leaders. Please be aware that as the weather is unpredictable\, t
 rip leaders may need to alter trips accordingly\n\nIn your comment please 
 let us know your climbing experience\, if you have a car and how many peop
 le you can take\, and you favourite name for a group of animals. (Mine is 
 a flamboyance of flamingos)\n\nIf you have any questions feel free to cont
 act Aaron or myself.\n\nSee you there!\n\nSophia and Aaron\n\n&nbsp\;
CATEGORIES:Boree Log,Climbing,Outdoor Climbing
LOCATION:https://www.google.com/maps/place/Mezzaluna+Crag/@-33.5544207,150.
 2154523,17z/data=!3m1!4b1!4m6!3m5!1s0x6b1273c14b80772d:0xf7acf74c0aff3ec7!
 8m2!3d-33.5544207!4d150.2180272!16s%2Fg%2F11kpdcqw7d?entry=ttu&g_ep=EgoyMD
 I1MDIyNC4wIKXMDSoASAFQAw%3D%3D
END:VEVENT
BEGIN:VTIMEZONE
TZID:Australia/Sydney
X-LIC-LOCATION:Australia/Sydney
BEGIN:DAYLIGHT
DTSTART:20241006T030000
TZOFFSETFROM:+1000
TZOFFSETTO:+1100
TZNAME:AEDT
END:DAYLIGHT
END:VTIMEZONE
END:VCALENDAR