BEGIN:VCALENDAR
VERSION:2.0
PRODID:-//wp-events-plugin.com//7.2.3.1//EN
TZID:Australia/Sydney
X-WR-TIMEZONE:Australia/Sydney
BEGIN:VEVENT
UID:3668@unswoc.org
DTSTART;TZID=Australia/Sydney;VALUE=DATE:20251018
DTEND;TZID=Australia/Sydney;VALUE=DATE:20251019
DTSTAMP:20251013T190743Z
URL:https://unswoc.org/wordpress/events/saturday-bl-medlow-bath-sport-clim
 bing/
SUMMARY:[FULL] SATURDAY BL - MEDLOW BATH Sport Climbing
DESCRIPTION:Hey Everyone!\nPeta and I (Amelia)\, along with our TLIT Sonia\
 , will be running a sport climbing trip to Medlow Bath on Saturday. This a
 rea is very beginner friendly so anyone is welcome. We will set up some to
 p ropes and there may also be opportunities to learn to lead/clean routes 
 if we have time.\n\n\n\nWhat you need to bring:\n\n 	Sunscreen\n 	2L water
  (minimum!)\n 	Food for the day\n 	Sporty\, comfy clothes\n 	Jacket (just 
 in case you get cold)\n 	Day backpack to fit all your stuff\n 	Chalk (opti
 onal)\n\nBring the following items if you have them\, if not we can provid
 e:\n\n 	Harness\n 	Helmet\n 	Belay device (eg ATC)\n 	Locking carabiner\n 
 	Climbing shoes\n\n\n\n\nYou need to be approved for the main Boree Log ev
 ent to attend these trips. Please sign up for only ONE trip per day. If yo
 u get rejected you can then sign up for another trip\, this just makes it 
 easier for volunteer trip leaders. Please be aware that as the weather is 
 unpredictable\, trip leaders may need to alter trips accordingly.\n\n\n\n\
 n\nPlease include in the comments: Your climbing experience\, whether you 
 have a car and how many spots\, and if you could turn any food into an unc
 onventional ice cream\, what would it be?\n\n
CATEGORIES:Boree Log,Climbing,Outdoor Climbing
LOCATION:https://www.google.com/maps/place/Belgravia+St,+Medlow+Bath+NSW+27
 80/@-33.6717162,150.2780871,363m/data=!3m2!1e3!4b1!4m6!3m5!1s0x6b126dbf0ce
 490c3:0x13017d67e56e96c1!8m2!3d-33.6717178!4d150.2789975!16s%2Fg%2F11c63k2
 n02?entry=ttu&g_ep=EgoyMDI0MDkxOC4xIKXMDSoASAFQAw%3D%3D
END:VEVENT
BEGIN:VTIMEZONE
TZID:Australia/Sydney
X-LIC-LOCATION:Australia/Sydney
BEGIN:DAYLIGHT
DTSTART:20251005T030000
TZOFFSETFROM:+1000
TZOFFSETTO:+1100
TZNAME:AEDT
END:DAYLIGHT
END:VTIMEZONE
END:VCALENDAR