BEGIN:VCALENDAR
VERSION:2.0
PRODID:-//wp-events-plugin.com//7.2.3.1//EN
TZID:Australia/Sydney
X-WR-TIMEZONE:Australia/Sydney
BEGIN:VEVENT
UID:3766@unswoc.org
DTSTART;TZID=Australia/Sydney:20260321T100000
DTEND;TZID=Australia/Sydney:20260321T140000
DTSTAMP:20260312T071544Z
URL:https://unswoc.org/wordpress/events/saturday-bl-lawsons-long-alley-loo
 p-hike-beginner/
SUMMARY:SATURDAY BL - BUSHRANGERS CAVE RETURN HIKE [Beginner]
DESCRIPTION:Harry\, Margot\, Loki (My dog) and I (Rory) will be running the
  Bushrangers Cave Return Hike this Boree.\n\nThis hike is a 2-3 hr walk st
 arting at Mount Piddington and containing some stunning scenery.\n\nYou ca
 n read more about it here\n\nParts of this walk are fairly exposed\, so pl
 ease pack your hat and sunscreen. Make sure you're prepared for all weathe
 r conditions\, including rain &amp\; cold (please read the packing list). 
 Long pants are recommended to defend against ticks and scratchy plants. Wh
 ile this is a beginner trip\, you can expect some steep-ish sections and r
 ough ground. Bring your adventurous spirit :).\n\n&nbsp\;\n\nPacking list\
 n\n 	Sturdy shoes or boots\n 	Day pack that can fit everything listed belo
 w...\n 	2-3L water\n 	Snacks (high-energy like muesli bars\, fruit\, nuts\
 , etc.)\n 	Packed lunch (or just extra snacks)\n 	Light jacket\n 	Raincoat
 \n 	Hat and sunscreen\n 	Any personal medication\n 	Torch or head lamp (in
  case of emergency)\n\nOptional gear:\n\n 	Personal first aid e.g. bandaid
 s\, blister packs\n 	Camera/electronics\n\n&nbsp\;\n\nSign-ups open: Monda
 y 9th March\, 7am\n\nNote: You need to be approved for the main Boree Log 
 event to attend these trips. Please sign up for only ONE trip per day. If 
 you get rejected you can then sign up for another trip\, this just makes i
 t easier for volunteer trip leaders. Please be aware that as the weather i
 s unpredictable\, trip leaders may need to alter trips accordingly.\n\nIn 
 your sign-up comment\, tell me about your HIKING EXPERIENCE\, IF YOU HAVE 
 A CAR! AND\, if you had to be a tree\, what tree would you be?
CATEGORIES:Boree Log,Bushwalking,Hectic Hiking
LOCATION:https://share.google/xIvssujk6MenXyyl8
END:VEVENT
BEGIN:VTIMEZONE
TZID:Australia/Sydney
X-LIC-LOCATION:Australia/Sydney
BEGIN:DAYLIGHT
DTSTART:20251005T030000
TZOFFSETFROM:+1000
TZOFFSETTO:+1100
TZNAME:AEDT
END:DAYLIGHT
END:VTIMEZONE
END:VCALENDAR