BEGIN:VCALENDAR
VERSION:2.0
PRODID:-//wp-events-plugin.com//7.2.3.1//EN
TZID:Australia/Sydney
X-WR-TIMEZONE:Australia/Sydney
BEGIN:VEVENT
UID:3013@unswoc.org
DTSTART;TZID=Australia/Sydney;VALUE=DATE:20220514
DTEND;TZID=Australia/Sydney;VALUE=DATE:20220515
DTSTAMP:20220505T081701Z
URL:https://unswoc.org/wordpress/events/saturday-bl-koombanda-canyon/
SUMMARY:SATURDAY BL - KOOMBANDA Canyon
DESCRIPTION:You need to be approved for the main Boree Log event to attend 
 these trips. Please sign up for only ONE trip per day. If you get rejected
  you can then sign up for another trip\, this just makes it easier for vol
 unteer trip leaders. Please be aware that as the weather is unpredictable\
 , trip leaders may need to alter trips accordingly\n\n\n\nNote: You must b
 e able to swim to come on this trip.\n"The best canyon in the Blue Mountai
 ns\, way better than Claustral."\n\n- Jeffrey Kwan\, 2021\nCome join Scott
  and myself this Sunday for a trip down Koombanda Canyon!\n\nExperience ab
 seiling and confidence scrambling is preferred\, but we will have a few sp
 ots open to beginners and we can teach you to abseil / make sure you're sa
 fe on the day.\n\nYou will need:\n\n 	Harness*\n 	Descender* (figure 8\, o
 r ATC) and a carabiner\n 	Safety sling and carabiner*\n 	Prusik and carabi
 ner*\n 	At least 1.5L water\n 	Food: lunch\, snacks.\n 	Emergency blanket 
 (compulsory for all club canyons\, can be bought from the gear cupboard/Bo
 ree Log camp for $5)\n 	Helmet*\n 	Wetsuit*\n 	Board shorts (to wear over
  wetsuit\, compulsory if wearing a club wetsuit)\n 	Backpack  (big enough 
 to hold everything)\n 	Dry bag*\n 	Enclosed Shoes (Volleys or old sneaker
 s are good options)\n 	Woollen socks\n 	Headtorch\n 	Thermals to wear unde
 r wetsuit\, or old rain jacket to wear over wetsuit if you get cold\n 	Dry
  thermals/jumper (not cotton!) for emergency\n 	Dry clothes to leave in ca
 r\n 	Sunscreen\n 	No cotton (it gets very cold when wet)\n 	Good vibes\n\n
 Items with an asterisk (*) can be borrowed from the gear cupboard.\n\nIn t
 he comments please include your abseiling and canyoning experience\, wheth
 er you've got a car with spots\, and what your favourite outdoor snack is 
 (so I know you've read this far).\n\nFeel free to message myself or Scott 
 on facebook if you have any questions\, and get keen!
ATTACH;FMTTYPE=image/jpeg:https://unswoc.org/wordpress/wp-content/uploads/
 2022/05/Koombanda.jpeg
CATEGORIES:Canyoning
END:VEVENT
BEGIN:VTIMEZONE
TZID:Australia/Sydney
X-LIC-LOCATION:Australia/Sydney
BEGIN:STANDARD
DTSTART:20220403T020000
TZOFFSETFROM:+1100
TZOFFSETTO:+1000
TZNAME:AEST
END:STANDARD
END:VTIMEZONE
END:VCALENDAR