BEGIN:VCALENDAR
VERSION:2.0
PRODID:-//wp-events-plugin.com//7.2.3.1//EN
TZID:Australia/Sydney
X-WR-TIMEZONE:Australia/Sydney
BEGIN:VEVENT
UID:3325@unswoc.org
DTSTART;TZID=Australia/Sydney;VALUE=DATE:20231014
DTEND;TZID=Australia/Sydney;VALUE=DATE:20231015
DTSTAMP:20231009T222256Z
URL:https://unswoc.org/wordpress/events/saturday-bl-kayak-bendeela-to-tall
 owa/
SUMMARY:[FULL] SATURDAY BL – BENDEELA TO TALLOWA DAM flat water kayak
DESCRIPTION:You need to be approved for the main Boree Log event to attend 
 these trips. If you get rejected then you can sign up for another trip\, t
 his just makes it easier for volunteer trip leaders. Please be aware that 
 as the weather is unpredictable\, trip leaders may need to alter trips acc
 ordingly.\n\n&nbsp\;\n\nPlease read the entire post and answer all questio
 ns before signing up.\n\n&nbsp\;\n\nHi all!\n\nMali and I (Katie) are run
 ning a trip on Saturday of Boree Log to kayak Bendeela campsite to (hopefu
 lly) Tallowa dam. This is a beginner kayaking trip but you will need to be
  fit as there will be around 6 hours and over 10km of paddling!\n\nPartici
 pants need to be competent swimmers\, good at handling cold water\, and pr
 epared (mentally) for a long day and some sore arms. We will be in white w
 ater kayaks and they move slow.\n\n\n\nPhoto cred: Kangaroo Valley Kayaks\
 n\n 	Kayaking gear provided at Boree Log event (If you have personal gear 
 it is helpful to bring this along):\n\n 	Helmet\n 	White water kayak + spr
 ay skirt (and maybe a raft if we can get fixed)\n 	Life jacket\n 	Paddle\n
 \n\n\n\n 	Kayaking gear not provided:\n\n 	Wetsuit/thermal to keep warm (t
 he club has some but these are mostly to canyon)\n 	Emergency blanket (You
  must carry one on every club canyoning trip. You must buy one from the ge
 ar cupboard for $5 cash or most outdoor stores)\n 	Dry bags that can fit A
 LL your gear inside and can fit inside the kayak (the club only has a coup
 le of drybags so we can't guarantee any for you\n\n\n\n\n 	Clothing:\n\n 	
 Hat\, sunglasses &amp\; sunscreen\n 	Wool socks\n 	Thermals to wear under 
 your life jacket\n 	A windbreaker for if it gets cold\n 	NO COTTON!\n\n\n\
 n\n 	Food:\n\n 	1.5L of water in bottles.\n 	Substantial lunch (pack it in
  a waterproof container\, and make sure it’s vaguely crush-proof)\n 	Sna
 cks (chocolate or something nice to share!)\n\n\n 	Miscellaneous:\n\n 	Any
  personal medicine (asthma puffer\, Epipen etc)\n 	A pair of thongs/flipfl
 ops (jandals if you're a kiwi like me) to leave in the car\n 	Phone or cam
 era for photos (optional\, and only if you’re prepared for it to get wet
  if your drybag leaks! Bring a ziploc bag or two to protect it)\n\n\n\nIf 
 you have any questions give myself or Mali a message on Facebook.\n\nAlso 
 let us know in comments:\n\n 	If you have a car and available seats for th
 e car shuffle\n 	Your kayaking and/or cold water swimming experience.\n 	A
 lso please comment with your favourite Australian animal\n 	If you've done
  an early vote for the Referendum (only applicable to Australian Citizens)
 \n\nThanks Alfie for the event template!\n\n&nbsp\;
ATTACH;FMTTYPE=image/jpeg:https://unswoc.org/wordpress/wp-content/uploads/
 2023/10/Kangaroo-Valley-Kayaks.jpg
CATEGORIES:Boree Log,Flat Water Kayaking
LOCATION:https://www.google.com/maps/place/Bendeela+Recreation+Area/@-34.73
 98785,150.4689615,17z/data=!3m1!4b1!4m6!3m5!1s0x6b1384112dd45a27:0x1864061
 442c50fdd!8m2!3d-34.7398829!4d150.4715364!16s%2Fg%2F11bwp1v1ph?entry=ttu
END:VEVENT
BEGIN:VTIMEZONE
TZID:Australia/Sydney
X-LIC-LOCATION:Australia/Sydney
BEGIN:DAYLIGHT
DTSTART:20231001T030000
TZOFFSETFROM:+1000
TZOFFSETTO:+1100
TZNAME:AEDT
END:DAYLIGHT
END:VTIMEZONE
END:VCALENDAR