BEGIN:VCALENDAR
VERSION:2.0
PRODID:-//wp-events-plugin.com//7.2.3.1//EN
TZID:Australia/Sydney
X-WR-TIMEZONE:Australia/Sydney
BEGIN:VEVENT
UID:3690@unswoc.org
DTSTART;TZID=Australia/Sydney;VALUE=DATE:20251018
DTEND;TZID=Australia/Sydney;VALUE=DATE:20251019
DTSTAMP:20251017T025005Z
URL:https://unswoc.org/wordpress/events/saturday-bl-jugglers-canyon-dry-be
 ginner/
SUMMARY:[FULL] SATURDAY BL – Jugglers Canyon [Dry / Beginner]
DESCRIPTION:Zee and I will be running a "dry" canyoning trip down to Juggle
 rs on Saturday!\n\nYou need to be approved for the main Boree Log event to
  attend these trips. Please sign up for only ONE trip per day. If you get 
 rejected you can then sign up for another trip\, this just makes it easier
  for volunteer trip leaders. Please be aware that as the weather is unpred
 ictable\, trip leaders may need to alter trips accordingly.\n\n&nbsp\;\n\n
 This is going to be a super awesome trip! Jugglers is a super pleasant can
 yon near the Grand Canyon at Medlow Bath.\n\n\n\n&nbsp\;\n\nMore info and 
 pics can be found here: https://ozultimate.com/canyoning/track_notes/jugg
 lers.htm\n\nThis is a dry canyon so don’t expect to get too wet\, but ex
 pect at least wet feet/legs. It will still be chilly however so bring warm
  clothes. e.g. Thermals beneath your clothes with a rain jacket on top.\n\
 nWhat to Expect:\n\n 	10kms of bush bashing and lots of walking up and dow
 n\n 	Abseiling and heights!\n 	Beautiful slot canyons\n 	Hopefully no tige
 r snakes!\n 	Knee deep wading\n\n&nbsp\;\n\nPlease fill out the form when 
 you sign up and comment with your experience and your favourite type of 
 rock to lick.\n\nPlease make you sure bring ALL required gear. Some gear
  is available to borrow from camp but it is limited – if you have any of
  your own please bring it!\n\nGear available to borrow from the club:\n\n 
 	Harness\n 	Helmet\n 	3x locking carabiners\n 	1x Figure 8 / Descender\n 
 	1x Safety sling\n 	Drybag (likely to be none available if you have one us
 e your own but really not that critical)\n\nOther gear you MUST bring:\n\
 n 	Backpack that can fit ALL your gear and that can get wet (30L+)\n 	Clo
 thing:\n\n 	Enclosed shoes with good grip\, suitable for water and bushwa
 lking\n 	Wool / neoprene socks\n 	Thermals and raincoat\n 	NO COTTON! (th
 is includes socks\, shirts\, pants\, undies\, etc)\n\n\n 	Food:\n\n 	2L of
  water (minimum)\n 	Lunch\n 	Snacks to share (with me &amp\; Zee)\n\n\n 	O
 ther:\n\n 	Medication (asthma puffer\, Epipen etc)\n 	Headtorch + spare b
 atteries\n 	Emergency blanket – (can buy from Gear Cupboard for $5 or f
 rom chemists\, shops\, etc)\n\n\n\n&nbsp\;\n\nGet keen and see ya there!
CATEGORIES:Boree Log,Canyoning
LOCATION:https://maps.app.goo.gl/kuHMK7LsUabgxPxs5
END:VEVENT
BEGIN:VTIMEZONE
TZID:Australia/Sydney
X-LIC-LOCATION:Australia/Sydney
BEGIN:DAYLIGHT
DTSTART:20251005T030000
TZOFFSETFROM:+1000
TZOFFSETTO:+1100
TZNAME:AEDT
END:DAYLIGHT
END:VTIMEZONE
END:VCALENDAR