BEGIN:VCALENDAR
VERSION:2.0
PRODID:-//wp-events-plugin.com//7.2.3.1//EN
TZID:Australia/Sydney
X-WR-TIMEZONE:Australia/Sydney
BEGIN:VEVENT
UID:2555@unswoc.org
DTSTART;TZID=Australia/Sydney;VALUE=DATE:20191026
DTEND;TZID=Australia/Sydney;VALUE=DATE:20191027
DTSTAMP:20191024T032148Z
URL:https://unswoc.org/wordpress/events/saturday-bl-intermediate-devils-pi
 nch-canyon/
SUMMARY:Saturday - Beginner / Intermediate Devil’s Pinch Canyon
DESCRIPTION:Hi\,\n\nSaturday Boree Log Devil's Pinch Canyon https://ozultim
 ate.com/canyoning/track_notes/devils_pinch.htm\n\n\n\nThe canyon itself is
  a long day\, with a long walk uphill into a pretty spectacular canyon. It
 ’s an intermediate/beginners trip\, so you’ll need to be pretty fit. D
 uration of day will be 7-9 hours\, likely closer to 9 hours due to the gro
 up size.\n\nWill be walking from the campground. Ideally quite early (tbc 
 time).\n\nThere will be at least 2 mandatory abseils so some abseil experi
 ence is required. If you don't have this experience let me know and we mig
 ht be able to work something out.\n\nWetsuits will needed as there will be
  a few swims.\n\n***You must be able to swim***\n\nIf you have any questio
 ns message Elliott Vercoe on facebook.\n\nA list of gear is below:\n\nWets
 uit\n\nHarness\n\nHelmet\n\n2 x Carabiner\n\nAbseiling device\n\nSling\n\n
 Backpack\n\nAt least 2L water during the day and more to be drunk at camp\
 n\nDrybag (or find someone to share with)\n\nDinner\, Breakfast\, Lunch an
 d Snacks\n\nEnclosed shoes such as old runners\n\nWollen socks\n\nHat\, su
 nscreen and sunglasses\n\n&nbsp\;\n\nKind regards\,\n\nElliott Vercoe.
END:VEVENT
BEGIN:VTIMEZONE
TZID:Australia/Sydney
X-LIC-LOCATION:Australia/Sydney
BEGIN:DAYLIGHT
DTSTART:20191006T030000
TZOFFSETFROM:+1000
TZOFFSETTO:+1100
TZNAME:AEDT
END:DAYLIGHT
END:VTIMEZONE
END:VCALENDAR