BEGIN:VCALENDAR
VERSION:2.0
PRODID:-//wp-events-plugin.com//7.2.3.1//EN
TZID:Australia/Sydney
X-WR-TIMEZONE:Australia/Sydney
BEGIN:VEVENT
UID:2564@unswoc.org
DTSTART;TZID=Australia/Sydney;VALUE=DATE:20191026
DTEND;TZID=Australia/Sydney;VALUE=DATE:20191027
DTSTAMP:20191020T014712Z
URL:https://unswoc.org/wordpress/events/saturday-bl-intermediate-canyoning
 -starlight-canyon-trip-2-out-of-2-the-better-one/
SUMMARY:Saturday BL – *TRIP FULL* Intermediate Canyoning – Starlight Ca
 nyon (trip 2 out of 2 - the better one)
DESCRIPTION:\n\n&nbsp\;\n\n&nbsp\;\n\n&nbsp\;\n\n&nbsp\;\n\n&nbsp\;\n\n&nbs
 p\;\n\n&nbsp\;\n\n&nbsp\;\n\n&nbsp\;\n\nYou must be attending and approved
  for the Boree Log main event to sign up for this trip.\n\nNote: thanks to
  Stephen for the trip template!\n\nWanna come see one of the Blue Mountain
 s’ very best\, 10/10 canyons? Wanna see a spectacular glowworm tunnel\, 
 beautiful canyon formations\, experience three sweet abseils\, and enjoy a
 n ardous scenic hike? Then Starlight Canyon is for you!\n\nJeffrey and I
  (Matt) will be running this awesome canyon on Boree Log – Saturday 26th
 . It is suited for intermediate canyoners if you have solid physical fitne
 ss and are keen for a lot of scrambling (there’s a steep 470m uphill on 
 the way in and a long rough scramble out). If you want to sign up\, do it 
 here\, and tell us in the comments (or message me on Facebook - Matthew No
 tarangelo) with your current canyoning experience\, fitness level\, what g
 ear you already have\, and why you think it's called starlight canyon (so 
 we know you’ve read this far!)\, and we will let you know who got a spot
  and add you to the trip ASAP.\n\nWhat to bring:\n\n 	Head torch (With ful
 l batteries\, it’s pitch black in the tunnel)\n 	Emergency blanket (You 
 must carry one on every club canyoning trip. You can grab one from the gea
 r cupboard or at Boree Log for $5 cash)\n 	Harness*\n 	Descender (ATC or o
 ther - no munter) and biner*\n 	Safety sling and biner*\n 	Prusik and bine
 r*\n 	Helmet*\n 	Proper damn shoes. Volleys are ideal\, but runners with g
 ood grip (that aren’t slippery when wet) also work. No sandals or crocs.
  Sandals as they are unsafe and crocs being visually horrific.\n 	Wool soc
 ks (to keep your wet feet warm)\n 	Clothing that you can hike &amp\; scram
 ble in &amp\; that is not too cold / heavy when wet (there will be deep wa
 des). Please do not wear jeans! Also no cotton!\n 	Spare jacket / jumper 
 in a plastic bag\n 	Sun protection! (sunscreen\, hat)\n 	2 litres of water
 \n 	Lunch &amp\; snacks (for 10hrs)\n 	Drybag to keep stuff dry\n 	Thermal
 s + beanie for if we're out late\n\n—&gt\; items with a * can be borrowe
 d from club – let us know what you need\n\n&nbsp\;\n\nSee you down there
 !
CATEGORIES:Boree Log,Canyoning
END:VEVENT
BEGIN:VTIMEZONE
TZID:Australia/Sydney
X-LIC-LOCATION:Australia/Sydney
BEGIN:DAYLIGHT
DTSTART:20191006T030000
TZOFFSETFROM:+1000
TZOFFSETTO:+1100
TZNAME:AEDT
END:DAYLIGHT
END:VTIMEZONE
END:VCALENDAR