BEGIN:VCALENDAR
VERSION:2.0
PRODID:-//wp-events-plugin.com//7.2.3.1//EN
TZID:Australia/Sydney
X-WR-TIMEZONE:Australia/Sydney
BEGIN:VEVENT
UID:3344@unswoc.org
DTSTART;TZID=Australia/Sydney;VALUE=DATE:20231014
DTEND;TZID=Australia/Sydney;VALUE=DATE:20231015
DTSTAMP:20231012T132400Z
URL:https://unswoc.org/wordpress/events/saturday-bl-intermediate-bungonia-
 caving/
SUMMARY:[FULL] SATURDAY BL - Intermediate - Bungonia Caving
DESCRIPTION:Hey folks\,\n\nMissed out on Bungonia Palooza? Or just want to 
 come crawl around in the dirt? Cindy and I (Gabe) along with Zee and Peta 
 will be running a caving trip through Blowfly at Bungonia on the Saturday 
 of Boree Log.\n\nBlowfly is a super fun little cave with an abseil entry\,
  some interesting squeezes and climbs\, and highlights such as the dragons
  teeth and the kidney squeeze. We will jumar (ascend ropes) to the exit bu
 t don’t worry if you haven’t ascended before as we are happy to teach 
 you!\n\nWe will drive to Bungonia from Bendeela campground (about 1.5hrs) 
 in the morning and spend about 5 hours underground so make sure you bring 
 plenty of food to keep you going!\n\n*You need to be approved for the main
  Boree Log event to attend these trips. Please sign\nup for only ONE trip 
 per day. If you get rejected you can then sign up for another trip\, this 
 just makes it easier for volunteer trip leaders. Please be aware that as t
 he weather is unpredictable\, trip leaders may need to alter trips accordi
 ngly*\n\n&nbsp\;\n\nWHAT TO BRING:\n\n 	Emergency Blanket\n 	Headtorch\n 	
 Spare batteries (compatible with your headtorch)\n 	Back up light - this c
 an be another headtorch or a flashlight\n 	Spare thermals\n 	Clothes that 
 can get a bit dusty - We will organise coveralls for everyone to wear over
  your clothes but don’t wear anything too precious\n 	Shoes with good gr
 ip\n 	Helmet*\n 	Harness*\n 	Descender/ Figure 8*\n 	2x Safety Sling*\n 	2
 x Locking Carabiners*\n 	Small backpack\n 	Crush-proof lunch\, snacks and 
 water (2L)\n 	Any medication/medical devices you need\n\n*BYO if you have 
 one or can be borrowed from the club on the weekend\n\nIf you’re keen to
  come along\, sign up and leave a comment telling us any caving experience
  you have (okay if none!)\, any abseiling experience and your favourite fl
 avour of stock. If you’ve got any questions feel free to send me a messa
 ge! Please also comment if you have done an early vote for the Referendum
  (only applicable to Australian Citizens)\n\nCheers\,\nGabe
ATTACH;FMTTYPE=image/jpeg:https://unswoc.org/wordpress/wp-content/uploads/
 2023/10/384560940_308046842178440_1643816764592104817_n-1-scaled.jpg
LOCATION:https://www.google.com/maps/place/Blowfly+Cave+Access,+Bungonia+NS
 W+2580/@-34.8050086,150.0108654,17z/data=!3m1!4b1!4m6!3m5!1s0x6b1405f03a09
 af13:0xbd856de6d476f1ee!8m2!3d-34.8050087!4d150.0157363!16s%2Fg%2F11cjg9n6
 bc?hl=en&entry=ttu
END:VEVENT
BEGIN:VTIMEZONE
TZID:Australia/Sydney
X-LIC-LOCATION:Australia/Sydney
BEGIN:DAYLIGHT
DTSTART:20231001T030000
TZOFFSETFROM:+1000
TZOFFSETTO:+1100
TZNAME:AEDT
END:DAYLIGHT
END:VTIMEZONE
END:VCALENDAR