BEGIN:VCALENDAR
VERSION:2.0
PRODID:-//wp-events-plugin.com//7.2.3.1//EN
TZID:Australia/Sydney
X-WR-TIMEZONE:Australia/Sydney
BEGIN:VEVENT
UID:3227@unswoc.org
DTSTART;TZID=Australia/Sydney:20230318T093000
DTEND;TZID=Australia/Sydney:20230318T140000
DTSTAMP:20230310T054628Z
URL:https://unswoc.org/wordpress/events/saturday-bl-hiking-to-wollamgambe-
 river/
SUMMARY:SATURDAY BL - Hiking to Wollangambe River
DESCRIPTION:Hey all!\n\nZee and I (Cindy) are leading a hike down to the Wo
 llangambe River. We will be able to see some spectacular views\, beautiful
  sandstone pagodas and potentially a dip in the river. This will be an eas
 y\, beginner friendly hike and is approximately 7km\, with 320 vertical me
 ters and the hike itself should take us about 3 hours to complete.\n\n&nbs
 p\;\n\n\n\n&nbsp\;\n\nWhat you'll need to bring:\n\n 	Sturdy\, comfortable
  shoes or hiking boots\n 	Backpack to hold your stuff\n 	Appropriate hikin
 g clothes\n 	Hat\n 	Rain jacket\n 	Warm clothes\n 	Lunch and snacks\n 	2 L
  of water - need to have this ready to go at the campground for when we le
 ave Saturday morning (remember there is no drinking water at the campgroun
 d)\n 	Headtorch\n 	Sunscreen/mosquito repellent\n 	Any personal medication
  you might normally carry with you\n 	Swimmers + towel if you'd like to go
  for a swim\n\nPlease leave a comment in the sign ups if you have a car (i
 ncluding how many spots you have) or need a lift. Also be sure to let us k
 now your general fitness/hiking experience. And lastly\, just so I know yo
 u've read this info\, let me know what is your favourite dish to cook (or 
 if you don't cook!).\n\nFeel free to contact Zee (Zenon) or I (https://www
 .facebook.com/Cindy.li27/) if you have any questions.\n\nNote: You need to
  be approved for the main Boree Log event to attend these trips. If you do
  not get accepted to this trip then you can then sign up for another trip\
 , this just makes it easier for volunteer trip leaders. Please be aware th
 at as the weather is unpredictable\, trip leaders may need to alter trips 
 accordingly
CATEGORIES:Bushwalking,Hectic Hiking
END:VEVENT
BEGIN:VTIMEZONE
TZID:Australia/Sydney
X-LIC-LOCATION:Australia/Sydney
BEGIN:DAYLIGHT
DTSTART:20221002T030000
TZOFFSETFROM:+1000
TZOFFSETTO:+1100
TZNAME:AEDT
END:DAYLIGHT
END:VTIMEZONE
END:VCALENDAR