BEGIN:VCALENDAR
VERSION:2.0
PRODID:-//wp-events-plugin.com//7.2.3.1//EN
TZID:Australia/Sydney
X-WR-TIMEZONE:Australia/Sydney
BEGIN:VEVENT
UID:3225@unswoc.org
DTSTART;TZID=Australia/Sydney;VALUE=DATE:20230318
DTEND;TZID=Australia/Sydney;VALUE=DATE:20230319
DTSTAMP:20230316T003613Z
URL:https://unswoc.org/wordpress/events/saturday-bl-hiking-to-gooches-crat
 er/
SUMMARY:SATURDAY BL - Hiking to Gooches Crater
DESCRIPTION:Hey all!\n\nKatie and I (Bennett) are leading a trip to Gooch
 ’s Crater – a natural\, crater-like amphitheater. This will be a great
  day of hiking\, scrambling up rock pagodas\, and exploring the cliffs aro
 und this feature. This hike is approximately 18km\, with 629 vertical mete
 rs and should take us about 6 hours to complete. Due to this distance\, so
 me hiking experience is preferred for this hike.\n\n&nbsp\;\n\n\n\nWhat yo
 u'll need to bring:\n\n 	Sturdy\, comfortable shoes or hiking boots\n 	Bac
 kpack to hold your stuff\n 	Appropriate hiking clothes\n 	Hat\n 	Rain jack
 et\n 	Warm clothes\n 	Lunch and snacks\n 	2-3 L of water - need to have th
 is ready to go at the campground for when we leave Saturday morning (remem
 ber there is no drinking water at the campground)\n 	Emergency blanket (ca
 n be purchased from the club at gear night)\n 	Headtorch\n 	Sunscreen/mosq
 uito repellent\n 	Any personal medication you might normally carry with yo
 u\n\nPlease leave a comment in the sign ups if you have a car (including h
 ow many spots you have) or need a lift. Also be sure to let us know your g
 eneral fitness/hiking experience. And lastly\, just so I know you've read 
 this info\, let me know what your favourite hiking snack is.\n\nFeel free 
 to contact Katie or I (Bennett - https://www.facebook.com/bennett.frerck.1
 ) if you have any questions.\n\nNote: You need to be approved for the main
  Boree Log event to attend these trips. If you do not get accepted to this
  trip then you can then sign up for another trip\, this just makes it easi
 er for volunteer trip leaders. Please be aware that as the weather is unpr
 edictable\, trip leaders may need to alter trips accordingly
CATEGORIES:Bushwalking,Hectic Hiking
END:VEVENT
BEGIN:VTIMEZONE
TZID:Australia/Sydney
X-LIC-LOCATION:Australia/Sydney
BEGIN:DAYLIGHT
DTSTART:20221002T030000
TZOFFSETFROM:+1000
TZOFFSETTO:+1100
TZNAME:AEDT
END:DAYLIGHT
END:VTIMEZONE
END:VCALENDAR