BEGIN:VCALENDAR
VERSION:2.0
PRODID:-//wp-events-plugin.com//7.2.3.1//EN
TZID:Australia/Sydney
X-WR-TIMEZONE:Australia/Sydney
BEGIN:VEVENT
UID:3005@unswoc.org
DTSTART;TZID=Australia/Sydney;VALUE=DATE:20220514
DTEND;TZID=Australia/Sydney;VALUE=DATE:20220515
DTSTAMP:20220510T120913Z
URL:https://unswoc.org/wordpress/events/saturday-bl-goochs-crater-hiking/
SUMMARY:SATURDAY BL - Hiking at Goochs Crater
DESCRIPTION:Hey guys!\n\nBennett and I are leading a trip to Gooch’s Crat
 er – a natural\, crater-like amphitheatre. This will be a great day of h
 iking\, scrambling up rock pagodas\, and exploring the cliffs around this 
 feature. This is a 13km round trip (maybe a bit more depending on how much
  we explore) and will take around 5-6 hours to complete\, so it's perfect 
 for both beginner and expert bushwalkers alike!\n\n\n\nGear list:\n\n 	Stu
 rdy\, comfortable shoes or hiking boots\n 	Backpack to hold your stuff\n 	
 Appropriate hiking clothes\n 	Hat\n 	Rain jacket\n 	Warm clothes\n 	Lunch 
 and snacks\n 	2 L of water - need to have this ready to go at the campgrou
 nd for when we leave Saturday morning (remember there is no drinking water
  at the campground)\n 	Emergency blanket (can be purchased from the club a
 t gear night)\n 	Headtorch\n 	Any personal medication you might normally c
 arry with you\n\nPlease leave a comment in the sign ups if you have a car 
 or need a lift\, and your general level of fitness. Also write what your f
 avourite hiking snack is.\n\nFeel free to contact me (Matt Notarangelo - h
 ttps://www.facebook.com/matthew.notarangelo.3/) if you have any questions.
 \n\nNote: You need to be approved for the main Boree Log event to attend t
 hese trips. Please sign up for only ONE trip per day. If you get rejected 
 you can then sign up for another trip\, this just makes it easier for volu
 nteer trip leaders. Please be aware that as the weather is unpredictable\,
  trip leaders may need to alter trips accordingly
CATEGORIES:Boree Log,Bushwalking,Hectic Hiking
END:VEVENT
BEGIN:VTIMEZONE
TZID:Australia/Sydney
X-LIC-LOCATION:Australia/Sydney
BEGIN:STANDARD
DTSTART:20220403T020000
TZOFFSETFROM:+1100
TZOFFSETTO:+1000
TZNAME:AEST
END:STANDARD
END:VTIMEZONE
END:VCALENDAR