BEGIN:VCALENDAR
VERSION:2.0
PRODID:-//wp-events-plugin.com//7.2.3.1//EN
TZID:Australia/Sydney
X-WR-TIMEZONE:Australia/Sydney
BEGIN:VEVENT
UID:3681@unswoc.org
DTSTART;TZID=Australia/Sydney:20251018T000000
DTEND;TZID=Australia/Sydney:20251018T000000
DTSTAMP:20251014T064659Z
URL:https://unswoc.org/wordpress/events/saturday-bl-gobsmacker-canyon-begi
 nner/
SUMMARY:[FULL] SATURDAY BL - GOBSMACKER Canyon - Beginner
DESCRIPTION:Keen for a canyon on Boree log? Well I reckon Gobsmacker (Lower
  North Bowens) is the best canyon at Mount Wilson. No experience needed fo
 r this trip\, come enjoy a fantastic first canyon with myself (Daniel) and
  Luke!\n\n&nbsp\;\n\nExpect a few jumps\, abseiling through waterfalls and
  an amazingly pretty blue mountains slot canyon. Or just watch the video f
 rom last year\n\nYou can find the trip notes here.\n\n&nbsp\;\n\n“You ne
 ed to be approved for the main Boree Log event to attend these trips. Plea
 se sign up for only ONE trip per day. If you get rejected you can then sig
 n up for another trip\, this just makes it easier for volunteer trip leade
 rs. Please be aware that as the weather is unpredictable\, trip leaders ma
 y need to alter trips accordingly”\n\n&nbsp\;\n\nPlease write down in th
 e comments your canyoning/abseiling experience (it's ok to have none) and 
 your favourite place to go swimming.\n\n&nbsp\;\n\nWHAT TO BRING:\n\n 	Dry
  bag*\n 	Helmet*\n 	Harness*\n 	Descender (figure 8)*\n 	Safety Sling*\n 	
 2 x locking carabiners*\n 	Enclosed shoes that you can walk in while wet\n
  	Warm socks (not cotton!!)\n 	Wetsuit* (Minimum 3mm\, bring your own if y
 ou have one)\n 	Shorts to go over and protect your wetsuit\n 	Water (at le
 ast 2L)\n 	Headtorch\n 	Emergency blanket (can be purchased from the club 
 for $5)\n 	Warm clothes (bring a dry set of thermals to go in the drybag)\
 n 	Backpack that will fit all your gear and can get wet\n 	Food to last th
 e whole day (including some snacks to have on the go!)\n\n*Can borrow from
  the club\, we will bring all the gear to Boree Log
CATEGORIES:Boree Log,Canyoning
LOCATION:https://maps.app.goo.gl/xuq2auoizf8LKgUk8
END:VEVENT
BEGIN:VTIMEZONE
TZID:Australia/Sydney
X-LIC-LOCATION:Australia/Sydney
BEGIN:DAYLIGHT
DTSTART:20251005T030000
TZOFFSETFROM:+1000
TZOFFSETTO:+1100
TZNAME:AEDT
END:DAYLIGHT
END:VTIMEZONE
END:VCALENDAR