BEGIN:VCALENDAR
VERSION:2.0
PRODID:-//wp-events-plugin.com//7.2.3.1//EN
TZID:Australia/Sydney
X-WR-TIMEZONE:Australia/Sydney
BEGIN:VEVENT
UID:3235@unswoc.org
DTSTART;TZID=Australia/Sydney;VALUE=DATE:20230318
DTEND;TZID=Australia/Sydney;VALUE=DATE:20230319
DTSTAMP:20230313T000747Z
URL:https://unswoc.org/wordpress/events/saturday-bl-geronimo-canyon/
SUMMARY:[FULL] SATURDAY BL - Geronimo Canyon
DESCRIPTION:Welcome to Boree Log!\n\nMake sure you read the entire descript
 ion and bring all the required gear\n\nThis Boree Log\, Stephen and I (Geo
 rgie) will be running a trip to Geronimo Canyon. Geronimo is a short and s
 weet wet canyon with 4-5 abseils. Participants will need to be comfortabl
 e with abseiling\, cold swims\, and a reasonable walk in and out.\n\nGear\
 n\nThe following gear can be provided but please bring your own if you can
  as there is a limited supply:\n\n 	Harness\n 	Helmet\n 	3x locking carabi
 ner\n 	1x Figure 8\n 	1x 120cm safety sling/other safety device (e.g. Petz
 l connect adjust)\n 	1x Large drybag\n 	Wetsuit\n\nGear that will not be p
 rovided that you MUST bring:\n\n 	Emergency blanket (can be purchased from
  the gear cupboard\, most outdoor stores\, and pharmacies for $5-10)\n 	Ba
 ckpack that can fit ALL your gear in (30L – 40L)\, get wet\, and be trea
 ted rough (e.g. you will hike\, abseil\, swim\, and jump into water with t
 his).\n 	Clothing -\n\n 	Enclosed shoes with good grip (e.g. old sneakers)
 \n 	Dry clothes to hike in/out of the canyon in\n 	Boardshorts to wear on 
 top of wetsuit (compulsory to protect the club wetsuits)\n 	Wool/neoprene 
 socks\n 	Light raincoat that is ok to get wet\n 	Thermal top and bottoms\n
  	Swimmers (to put under your wetsuit)\n 	DO NOT BRING COTTON CLOTHING.\n\
 n\n 	Food -\n\n 	1.5L of water in bottles.\n 	Substantial lunch (pack it i
 n a waterproof container\, and make sure it’s vaguely crush-proof)\n 	Sn
 acks\n\n\n 	Other -\n\n 	Any personal medicine (asthma puffer\, Epipen etc
 )\n 	A pair of thongs/flipflops to leave in the car (since your shoes will
  get wet)\n 	Phone or camera for photos (optional and only if you’re pre
 pared for it to get wet if your drybag leaks! Bring a ziploc bag or two to
  protect it)\n\n\n\n\n 	\n\nIf you have any questions\, message Georgie Cl
 are or Stephen Roche on Facebook. We will also be at the campground on Fri
 day night if you'd like to come and meet us and chat beforehand. Write dow
 n your abseiling / outdoor experience in the comment when signing up\, wha
 t your spirit animal would be (so we know you’ve read this far)\, whethe
 r you have a car\, and how many spots you have.\n\nYou must be approved to
  the main Boree Log event to attend these trips. If your trip request for 
 this trip is not approved\, you will be able to sign up for a different on
 e. Please be aware that as the weather is unpredictable\, trip leaders may
  need to alter trips accordingly.
CATEGORIES:Canyoning
END:VEVENT
BEGIN:VTIMEZONE
TZID:Australia/Sydney
X-LIC-LOCATION:Australia/Sydney
BEGIN:DAYLIGHT
DTSTART:20221002T030000
TZOFFSETFROM:+1000
TZOFFSETTO:+1100
TZNAME:AEDT
END:DAYLIGHT
END:VTIMEZONE
END:VCALENDAR