BEGIN:VCALENDAR
VERSION:2.0
PRODID:-//wp-events-plugin.com//7.2.3.1//EN
TZID:Australia/Sydney
X-WR-TIMEZONE:Australia/Sydney
BEGIN:VEVENT
UID:3497@unswoc.org
DTSTART;TZID=Australia/Sydney;VALUE=DATE:20241012
DTEND;TZID=Australia/Sydney;VALUE=DATE:20241013
DTSTAMP:20241010T111956Z
URL:https://unswoc.org/wordpress/events/saturday-bl-day-hike/
SUMMARY:[FULL] SATURDAY BL - GRAND CANYON DAY HIKE
DESCRIPTION:Hey everyone!\n\nI will be leading a beginner friendly hiking t
 rip through the Cliff Top Track and Grand Canyon Trail in Blackheath.\n\nF
 eel free to check out the hike at the following link: https://www.alltrail
 s.com/ar/trail/australia/new-south-wales/cliff-top-track-and-grand-canyon\
 n\nAll experience levels are welcome.\n\nThis trail will require good fitn
 ess as there are steep sections\, however we will not be in a rush.\n\nIt 
 will be an all-day event and we will arrange car-pooling to and from the c
 ampsite at Cathedral of Ferns.\n\nWhat to bring:\n\n 	Small-medium sized b
 ackpack comfortable for walking\n 	At least 2L water **super important to 
 have enough water!!**\n 	Food/snacks for the day including lunch *for the 
 hangry*\n 	Sunscreen/hat\n 	Comfortable clothes to walk in and a warm laye
 r (jumper or jacket)\n\n**Please Note: You need to be approved for the mai
 n Boree Log event to attend these trips. Please sign up for only ONE trip 
 per day. If you get rejected you can then sign up for another trip\, this 
 just makes it easier for volunteer trip leaders. Please be aware that as t
 he weather is unpredictable\, trip leaders may need to alter trips accordi
 ngly**\n\n&nbsp\;\n\nSo\, if you are keen for a hike\, please tell us your
  hiking experience so far\, your favourite book (just so we know you’v
 e read all this information) and whether you have a car in your comment 
 below… and get in early before signups are full.\n\nIf you have any ques
 tions feel free to send me a message.\n\nThanks\,\n\nCaity\n\n&nbsp\;\n\n&
 nbsp\;
CATEGORIES:Boree Log
LOCATION:https://www.google.com/maps/place/evans+lookout/data=!4m2!3m1!1s0x
 6b1271e9e00cef89:0x613100ed36955ced?sa=X&ved=1t:155783&ictx=111
END:VEVENT
BEGIN:VTIMEZONE
TZID:Australia/Sydney
X-LIC-LOCATION:Australia/Sydney
BEGIN:DAYLIGHT
DTSTART:20241006T030000
TZOFFSETFROM:+1000
TZOFFSETTO:+1100
TZNAME:AEDT
END:DAYLIGHT
END:VTIMEZONE
END:VCALENDAR