BEGIN:VCALENDAR
VERSION:2.0
PRODID:-//wp-events-plugin.com//7.2.3.1//EN
TZID:Australia/Sydney
X-WR-TIMEZONE:Australia/Sydney
BEGIN:VEVENT
UID:3088@unswoc.org
DTSTART;TZID=Australia/Sydney;VALUE=DATE:20221015
DTEND;TZID=Australia/Sydney;VALUE=DATE:20221016
DTSTAMP:20221011T100306Z
URL:https://unswoc.org/wordpress/events/saturday-bl-dam-cliffs-sport-climb
 ing/
SUMMARY:SATURDAY BL - DAM CLIFFS Sport Climbing
DESCRIPTION:Jack and I (Sam) will be running a trip to Dam Cliffs for some 
 sport climbing on the Saturday of Boree Log.\n\nDam Cliffs is a fun sport 
 crag with nice easy to intermediate climbing that is very beginner friendl
 y. It's also right next to a dam (hence the name) that you can swim in\, r
 ope swing into\, cliff jump (up to ~10m) or even try some deep water soloi
 ng!\n\nYou must be approved for Boree Log to attend.\n\n\n\nWe'll meet nea
 r the trailer at the boree log campground on Saturday morning to collect g
 ear and count heads.\n\nWhat to bring:\n\n 	Climbing gear: A harness*\, he
 lmet*\, locking carabiner*\, belay device/ATC*\, climbing shoes\, chalk b
 ag.\n\n 	* = club can provide\n 	if you have your own gear please bring it
 \n\n\n 	Day trip stuff: sunscreen\, 2L water (minimum!)\, food for the day
 \, sporty clothes\, a warm jacket\, a bag for carrying\, approach shoes an
 d comfy crag shoes (the approach is very easy)\, any personal medicines/as
 thma puffer etc.\n 	Swimming stuff: Swimmers\, a towel etc. if you fancy 
 a swim after the climbing!\n\nIn the comment box please tell us if you'll 
 be driving your own car\, your climbing experience (and if you can lead)\,
  and if you would leave if you discovered you were in the matrix.\n\nYou n
 eed to be approved for the main Boree Log event to attend these trips. Ple
 ase sign up for only ONE trip per day. If you get rejected you can then si
 gn up for another trip\, this just makes it easier for volunteer trip lead
 ers.\nPlease be aware that as the weather is unpredictable\, trip leaders 
 may need to alter trips accordingly.\n\nIf you have any questions\, feel f
 ree to message me on Facebook (Sam Sutherland). Hope to see you there!
CATEGORIES:Boree Log,Climbing,Outdoor Climbing
END:VEVENT
BEGIN:VTIMEZONE
TZID:Australia/Sydney
X-LIC-LOCATION:Australia/Sydney
BEGIN:DAYLIGHT
DTSTART:20221002T030000
TZOFFSETFROM:+1000
TZOFFSETTO:+1100
TZNAME:AEDT
END:DAYLIGHT
END:VTIMEZONE
END:VCALENDAR