BEGIN:VCALENDAR
VERSION:2.0
PRODID:-//wp-events-plugin.com//7.2.3.1//EN
TZID:Australia/Sydney
X-WR-TIMEZONE:Australia/Sydney
BEGIN:VEVENT
UID:3384@unswoc.org
DTSTART;TZID=Australia/Sydney;VALUE=DATE:20240316
DTEND;TZID=Australia/Sydney;VALUE=DATE:20240317
DTSTAMP:20240305T013917Z
URL:https://unswoc.org/wordpress/events/saturday-bl-dam-cliffs-sport-climb
 ing-3/
SUMMARY:[FULL] SATURDAY BL - DAM CLIFFS Sport Climbing
DESCRIPTION:Hey Everyone!\n\nGabriel and I (Amelia) will be running a sport
  climbing trip to Dam Cliffs with the help of our wonderful TLITs\, Ariann
 e and Oliver.\n\nThis is a lovely crag with a lot of fun\, beginner-friend
 ly climbs all super close together. There’s also a dam right next to the
  crag that makes a lovely swimming spot to cool off after a days climbing\
 , or to try your first deep water solo!!\n\nAny gear that you require can 
 be collected from the gear trailer the morning of.\n\nIan Li sending it at
  Dam Cliffs\n\n\n\n\nGear:\n\n 	Harness\n 	Helmet\n 	Climbing shoes\n 	ATC
  + Carabiner\n\nIf you have your own gear\, please bring it!\n\nWhat to br
 ing:\n\n 	Sunscreen\n 	2L water (minimum!)\n 	Food for the day\n 	Sporty c
 lothes\n 	Jacket (just in case you get cold)\n 	Day backpack to fit all yo
 ur stuff\n 	Swimming stuff: swimmers\, towel etc. if you want to go for a 
 swim/deep water solo after climbing\n\n\n\n\nYou need to be approved for t
 he main Boree Log event to attend these trips. Please sign up for only ONE
  trip per day. If you get rejected you can then sign up for another trip\,
  this just makes it easier for volunteer trip leaders. Please be aware tha
 t as the weather is unpredictable\, trip leaders may need to alter trips a
 ccordingly\n\n\n\n\nPlease include in the comments: your climbing experien
 ce\, whether you have a car\, if you are keen to learn how to lead climb\,
  and if you could turn any food into an unconventional ice cream\, what wo
 uld it be?\n\n\n(Thanks Daniel for the template)\n\n\n
CATEGORIES:Boree Log,Outdoor Climbing
LOCATION:https://maps.app.goo.gl/S4L9wGLNtQio1S4v8
END:VEVENT
BEGIN:VTIMEZONE
TZID:Australia/Sydney
X-LIC-LOCATION:Australia/Sydney
BEGIN:DAYLIGHT
DTSTART:20231001T030000
TZOFFSETFROM:+1000
TZOFFSETTO:+1100
TZNAME:AEDT
END:DAYLIGHT
END:VTIMEZONE
END:VCALENDAR