BEGIN:VCALENDAR
VERSION:2.0
PRODID:-//wp-events-plugin.com//7.2.3.1//EN
TZID:Australia/Sydney
X-WR-TIMEZONE:Australia/Sydney
BEGIN:VEVENT
UID:3215@unswoc.org
DTSTART;TZID=Australia/Sydney;VALUE=DATE:20230318
DTEND;TZID=Australia/Sydney;VALUE=DATE:20230319
DTSTAMP:20230315T020603Z
URL:https://unswoc.org/wordpress/events/saturday-bl-dam-cliffs-sport-climb
 ing-2/
SUMMARY:[FULL] SATURDAY BL - DAM CLIFFS Sport Climbing
DESCRIPTION:You need to be approved for the main Boree Log event to attend 
 these trips. Please sign up for only ONE trip per day. If you get rejected
  then you can sign up for another trip\, this just makes it easier for vol
 unteer trip leaders. Please be aware that as the weather is unpredictable\
 , trip leaders may need to alter trips accordingly\nHey everyone!\n\nPeta\
 , Marcus\, Caity and I will be heading to Dam Cliffs on the Saturday of Bo
 ree Log. It'll be a nice chill day with a short walk in\, good climbs and 
 a lovely dam to swim in. Here's some photos for stoke (cheers to Sam\, Cal
 eb and Will for the pics)!\n\n\n\nWe’ll meet near the trailer at the Cat
 hedral of Ferns Campground 🏕️ on Saturday morning to collect gear and
  do a roll call.\n\nMost gear is provided including a harness\, helmet\, s
 afety sling\, locking carabiners\, belay device but you'll need to bring:\
 n\n 	Sunscreen 🧴\n 	2L water (stay hydrated!) 💧\n 	Food\, snacks to 
 share 😋 🍜 🍌\n 	Comfy clothes and shoes 👚👟\n 	Warm jacket 
 🧥\n 	Medication if required 💊\n\nOptional to bring:\n\n 	Climbing sh
 oes\, chalk bag 🧗\n 	Swimmers\, towel if you would like to go for a dip
 ! 👙🩲🏊\n\nIn the comments please let me know your climbing experie
 nce (indoor/outdoor\, grades\, ability to lead climb/belay)\, if you have 
 a car and how many spots you have\, and a guilty pleasure you have 😈\n\
 nSee y'all there 😊
ATTACH;FMTTYPE=image/jpeg:https://unswoc.org/wordpress/wp-content/uploads/
 2023/03/Screen-Shot-2023-03-09-at-4.49.31-pm.png
CATEGORIES:Boree Log,Climbing,Outdoor Climbing
END:VEVENT
BEGIN:VTIMEZONE
TZID:Australia/Sydney
X-LIC-LOCATION:Australia/Sydney
BEGIN:DAYLIGHT
DTSTART:20221002T030000
TZOFFSETFROM:+1000
TZOFFSETTO:+1100
TZNAME:AEDT
END:DAYLIGHT
END:VTIMEZONE
END:VCALENDAR