BEGIN:VCALENDAR
VERSION:2.0
PRODID:-//wp-events-plugin.com//7.2.3.1//EN
TZID:Australia/Sydney
X-WR-TIMEZONE:Australia/Sydney
BEGIN:VEVENT
UID:3675@unswoc.org
DTSTART;TZID=Australia/Sydney;VALUE=DATE:20251018
DTEND;TZID=Australia/Sydney;VALUE=DATE:20251019
DTSTAMP:20251006T012959Z
URL:https://unswoc.org/wordpress/events/saturday-bl-dam-cliffs-beginner-sp
 ort-climbing/
SUMMARY:[FULL] SATURDAY BL - DAM CLIFFS Beginner Sport Climbing
DESCRIPTION:You need to be approved for the main Boree Log event to attend 
 these trips. Please sign up for only ONE trip per day. If you get rejected
  you can then sign up for another trip\, this just makes it easier for vol
 unteer trip leaders. Please be aware that as the weather is unpredictable\
 , trip leaders may need to alter trips accordingly.\n\nHey everyone!\n\nNo
 ah\, Micah and I (Raff) are heading to Dam Cliffs for the Saturday of Bore
 e Log. Check out some of the climbs on thecrag\, there's a huge variety of
  grades so everyone is welcome. At the end of the day before heading back 
 to the campsite we will be deep water soloing and swimming\, likely joined
  by some other trips cooling off as a pitstop on the way back to the camps
 ite. It should be a super chill fun day out. This is a beginner trip so no
  experience is required and we will set up top ropes\, however if you wish
  to lead or do your own thing that's all good.\n\nWe will aim to leave the
  campsite early\, however both Noah and myself may have to wait a bit to m
 ake sure everyone is sorted to get to their trips as we are organising Bor
 ee. There will be no rush to get back to the campsite either\, likely with
  a lot of messing around in the cold water. If the weather is less than id
 eal and we have to change plans we will just have a lovely cold and wet sw
 im instead of climbing. To show that you have read the description\, let m
 e know which is more sinful: barefoot climbing\, or climbing with socks an
 d shoes?\n\n\n\nWhat to bring:\n\n 	ATC (or other belay device) *\n 	Locki
 ng Carabiner *\n 	Harness *\n 	Helmet *\n 	Climbing Shoes *\n 	Swimmers (o
 r a willingness to have wet undies)\n 	Towel\n 	Enclosed Shoes\n 	Appropri
 ate clothes (Something you can hike and climb in)\n 	Sunscreen\n 	Hat\n 	2
 L of Water\n 	Lunch\n 	A backpack that can hold all your stuff\n 	Any medi
 cations you need\n\nIf you have any of your own personal gear you are enco
 uraged to bring it\, as club gear can run out. Things like ropes and quick
 draws will be appreciated.\n\nGear followed by a * can be borrowed on the 
 day\, but again if you have your own please use it.\n\nIn your comment ple
 ase let us know what climbing experience you have\, any skills you would l
 ike to learn and anything else you feel is important.
CATEGORIES:Boree Log,Outdoor Climbing
LOCATION:https://maps.app.goo.gl/P32X1VHQkTpbo1vVA
END:VEVENT
BEGIN:VTIMEZONE
TZID:Australia/Sydney
X-LIC-LOCATION:Australia/Sydney
BEGIN:DAYLIGHT
DTSTART:20251005T030000
TZOFFSETFROM:+1000
TZOFFSETTO:+1100
TZNAME:AEDT
END:DAYLIGHT
END:VTIMEZONE
END:VCALENDAR