BEGIN:VCALENDAR
VERSION:2.0
PRODID:-//wp-events-plugin.com//7.2.3.1//EN
TZID:Australia/Sydney
X-WR-TIMEZONE:Australia/Sydney
BEGIN:VEVENT
UID:3012@unswoc.org
DTSTART;TZID=Australia/Sydney;VALUE=DATE:20220514
DTEND;TZID=Australia/Sydney;VALUE=DATE:20220515
DTSTAMP:20220505T022835Z
URL:https://unswoc.org/wordpress/events/saturday-bl-cosmic-county-trad-cli
 mbing/
SUMMARY:SATURDAY BL - Trad Climbing at Cosmic County
DESCRIPTION:\n\nHello adventurers\,\n\nCameron\, Zara and I (Tad) will be l
 eading a climbing trip to Cosmic County during the Saturday of Boree Log. 
 This is a faraway land of untold cracks\, all flavours of jam and gripping
  sandstone.\n\nNo climbing experience is required as we'll set up the clim
 bs for you to second or top rope. There are plenty of climbs at a range of
  grades. If you are experienced and feeling confident\, you may get a chan
 ce to tie into the sharp end of the rope and lead climb.\n\nThis is a pred
 ominantly trad climbing area\, with some mixed and sport routes. The idea 
 is that we will teach you all about trad climbing\, the type of gear used 
 for protection\, how to place gear safely and how to make bomber anchors.\
 n\nPlease include in the comments: your climbing experience\, whether you 
 are able to drive\, favourite starting OG pokemon (Squirtle\, Charmander\,
  Bulbasaur and Pikachu) and what climbing gear you already own.\n\nWe will
  meet up at 8:00am on Saturday morning at the Boree Log campground near th
 e trailer or you can arrange to meet at the parking area in Clarence. Any 
 gear that you require will be collected together on Saturday morning from 
 the trailer.\n\n 	Gear: harness\, helmet\, climbing shoes\, ATC + carabine
 r (if you have your own make sure you bring it!!!)\, climbing tape or crac
 k gloves to protect your hands (not essential).\n 	What to bring: sunscree
 n\, 2L water (minimum!)\, food for the day\, sporty clothes\, a warm jacke
 t\, a day backpack to fit all your stuff inside\, camera\, smiles\, etc.\n
  	Meeting point: 8:00am at Boree Log Trailer (Cathedral of Ferns Campgrou
 nd\, Mt Wilson).\n\n&nbsp\;\n\nYou need to be approved for the main Boree 
 Log event to attend these trips. Please sign up for only ONE trip per day.
  If you get rejected you can then sign up for another trip\, this just mak
 es it easier for volunteer trip leaders. \n\nPlease be aware that as the 
 weather is unpredictable\, trip leaders may need to alter trips accordingl
 y\n\n&nbsp\;\n\nSee you there\,\n\nTad\, Cameron and Zara
CATEGORIES:Boree Log,Climbing,Outdoor Climbing
END:VEVENT
BEGIN:VTIMEZONE
TZID:Australia/Sydney
X-LIC-LOCATION:Australia/Sydney
BEGIN:STANDARD
DTSTART:20220403T020000
TZOFFSETFROM:+1100
TZOFFSETTO:+1000
TZNAME:AEST
END:STANDARD
END:VTIMEZONE
END:VCALENDAR