BEGIN:VCALENDAR
VERSION:2.0
PRODID:-//wp-events-plugin.com//7.2.3.1//EN
TZID:Australia/Sydney
X-WR-TIMEZONE:Australia/Sydney
BEGIN:VEVENT
UID:3494@unswoc.org
DTSTART;TZID=Australia/Sydney;VALUE=DATE:20241012
DTEND;TZID=Australia/Sydney;VALUE=DATE:20241013
DTSTAMP:20241011T050727Z
URL:https://unswoc.org/wordpress/events/saturday-bl-corroboree-sport-climb
 ing/
SUMMARY:[FULL] SATURDAY BL - CORROBOREE SPORT CLIMBING
DESCRIPTION:Hey pepitos!\nMaddi and I will be leading a beginner friendly s
 port climbing trip to Corroboree. You can check out the crag page --&gt\;
  https://www.thecrag.com/en/climbing/australia/blue-mountains/corroboree-w
 alls/area/157747266 to see if anything catches your fancy. All experience 
 levels are welcome\; whether you are looking to climb outdoors for the fir
 st time or possibly want to learn to lead climb or belay.\nIt will be an a
 ll day event and we will arrange carpooling from the campsite at Cathedral
  of Ferns in the morning.\nWhat to bring:\n\n\n 	2L water\n 	Food/snacks f
 or the day\n 	Sunscreen/hat\n 	Warm layers in case it is windy/cold\n 	Com
 fortable clothes to climb in\n 	Harness*\n 	Helmet*\n 	Belay device (eg AT
 C)*\n 	Locking carabiner*\n 	Climbing shoes*\n 	Chalk (optional)\n 	Bag to
  fit everything listed above and some of the shared gear we will bring\n\n
 *Items marked with an asterix can be borrowed from the club and will be pr
 ovided on the day for those who need to borrow gear. Please bring your own
  gear if you have it*\n\n\n**Please Note: You need to be approved for the 
 main Boree Log event to attend these trips. Please sign up for only ONE tr
 ip per day. If you get rejected you can then sign up for another trip\, th
 is just makes it easier for volunteer trip leaders. Please be aware that a
 s the weather is unpredictable\, trip leaders may need to alter trips acco
 rdingly**\n\nSo\, if you are keen to touch rocks\, please tell us your cl
 imbing experience so far\, your favourite mode of transportation (just 
 so we know you’ve read all this information) and whether you have a car
  in your comment below… and get in early before signups are full.\nIf y
 ou have any questions feel free to send Maddi or myself a message.\nSaludo
 s\,\nEmily and Maddi
LOCATION:https://www.google.com/maps/place/Mount+Victoria+NSW+2786/@-33.577
 6752,150.2404815,13z/data=!3m1!4b1!4m6!3m5!1s0x6b1273103229822d:0x5017d681
 632d570!8m2!3d-33.5906899!4d150.2547707!16zL20vMDdoaDd6?entry=ttu&g_ep=Ego
 yMDI0MDkyMy4wIKXMDSoASAFQAw%3D%3D
END:VEVENT
BEGIN:VTIMEZONE
TZID:Australia/Sydney
X-LIC-LOCATION:Australia/Sydney
BEGIN:DAYLIGHT
DTSTART:20241006T030000
TZOFFSETFROM:+1000
TZOFFSETTO:+1100
TZNAME:AEDT
END:DAYLIGHT
END:VTIMEZONE
END:VCALENDAR