BEGIN:VCALENDAR
VERSION:2.0
PRODID:-//wp-events-plugin.com//7.2.3.1//EN
TZID:Australia/Sydney
X-WR-TIMEZONE:Australia/Sydney
BEGIN:VEVENT
UID:3085@unswoc.org
DTSTART;TZID=Australia/Sydney;VALUE=DATE:20221015
DTEND;TZID=Australia/Sydney;VALUE=DATE:20221016
DTSTAMP:20221010T055929Z
URL:https://unswoc.org/wordpress/events/saturday-bl-coke-ovens-trad-climbi
 ng/
SUMMARY:SATURDAY BL - COSMIC COUNTY Trad Climbing
DESCRIPTION:You need to be approved for the main Boree Log event to attend 
 these trips. Please signup for only ONE trip per day. If you get rejected 
 you can then sign up for another trip\, this justmakes it easier for volun
 teer trip leaders.\n\nOn the SATURDAY of Boree Log myself (Tad)\, Francois
  and Zara will be leading a climbing trip to Cosmic County during the Satu
 rday of Boree Log. This is a faraway land of untold cracks\, all flavours 
 of jam and gripping sandstone. For anyone new to outdoor climbing\, trad c
 limbing involves placing your own gear in the rock for protection\, so the
 re are no permanent fixed bolts in the rock.\n\nNo climbing experience is 
 required as we'll set up the climbs for you to second or top rope. There a
 re plenty of climbs at a range of grades. If you are experienced and feeli
 ng confident\, you may get a chance to tie into the sharp end of the rope 
 and lead climb. We are happy to teach you the fundamentals of trad climbin
 g. We will bring along trad racks\, ropes and other club gear but bring yo
 ur own if you have any.\n\nWe will meet up at 8:00am on Saturday morning a
 t the Boree Log campground near the trailer or you can arrange to meet at 
 the parking area in Clarence. Any gear that you require will be collected 
 together on Saturday morning from the trailer.\n\n 	Gear: harness\, helmet
 \, climbing shoes\, ATC + carabiner (if you have your own make sure you br
 ing it!!!)\, climbing tape or crack gloves to protect your hands (not esse
 ntial).\n 	What to bring: sunscreen\, 2L water (minimum!)\, food for the d
 ay\, sporty clothes\, a warm jacket\, a day backpack to fit all your stuff
  inside\, comfortable shoes to hike in\, snacks to share\, etc.\n 	Meeting
  point: 8:00am at Boree Log Trailer (Cathedral of Ferns Campground\, Mt W
 ilson).\n\n&nbsp\;\n\nIn the comments box\, please tell us about your prev
 ious climbing experience\, whether you will be driving your own car to Bor
 ee Log and your favourite scary movie to be considered for this trip :) [P
 ersonally\, my answer would be The Purge]\n\nPlease be aware that as the w
 eather is unpredictable\, trip leaders may need to alter tripsaccordingly\
 n\nThe photo is Henry climbing Baird's Effort at Cosmic County.\n\n
CATEGORIES:Outdoor Climbing
END:VEVENT
BEGIN:VTIMEZONE
TZID:Australia/Sydney
X-LIC-LOCATION:Australia/Sydney
BEGIN:DAYLIGHT
DTSTART:20221002T030000
TZOFFSETFROM:+1000
TZOFFSETTO:+1100
TZNAME:AEDT
END:DAYLIGHT
END:VTIMEZONE
END:VCALENDAR