BEGIN:VCALENDAR
VERSION:2.0
PRODID:-//wp-events-plugin.com//7.2.3.1//EN
TZID:Australia/Sydney
X-WR-TIMEZONE:Australia/Sydney
BEGIN:VEVENT
UID:2337@unswoc.org
DTSTART;VALUE=DATE:20181124
DTEND;VALUE=DATE:20181125
DTSTAMP:20181119T102345Z
URL:https://unswoc.org/wordpress/events/saturday-bl-climbing-at-the-megalo
 ng-valley/
SUMMARY:SATURDAY BL Climbing at the Megalong Valley
DESCRIPTION:Our previous Boree Log got cancelled due to rain\, but here we 
 are again ready to go climbing!\n\nKieran and I (Maria) are leading a clim
 bing trip to a small super cool crag in the MEGALONG VALLEY on SATURDAY\, 
 very close to our campground! There is sport\, trad and multipitch climbs 
 from easy (16) to hard grades. If you are a self-sufficient climber\, come
  along! If you're a beginner\, come along as well and we will set up top r
 opes for you and teach you all the basic skills. If you have a car you wil
 l get priority\, so message me on Facebook if you do!\n\nYou will need:\n\
 n- Climbing gear: harness\, helmet\, atc\, carabiner\, climbing shoes\, ch
 alk (can be borrowed from the club).\n\n- Lunch\, plenty of water\, a head
 torch (compulsory)\, sporty clothes\, sunscreen and a backpack to fit it a
 ll.\n\nGet keen! Maria :)
CATEGORIES:Outdoor Climbing
END:VEVENT
END:VCALENDAR