BEGIN:VCALENDAR
VERSION:2.0
PRODID:-//wp-events-plugin.com//7.2.3.1//EN
TZID:Australia/Sydney
X-WR-TIMEZONE:Australia/Sydney
BEGIN:VEVENT
UID:3765@unswoc.org
DTSTART;TZID=Australia/Sydney:20260321T080000
DTEND;TZID=Australia/Sydney:20260321T170000
DTSTAMP:20260309T054425Z
URL:https://unswoc.org/wordpress/events/saturday-bl-claustral-canyon-inter
 mediate/
SUMMARY:FULL - SATURDAY BL - CLAUSTRAL Canyon [Intermediate]
DESCRIPTION:Join Jason and Margot for a breezy trip through Claustral Canyo
 n\, one of Australia's few four-star (international significance) canyons.
 \nYou need to have\n\n 	Prior abseiling experience\n 	Experience scramblin
 g\n 	Ability to swim. This is a wet canyon with pools of up to 50m\n 	Mode
 rate level of fitness. Claustral is a long day. 8-12 hours for most partie
 s depending on speed. We will be pushing for 8 hours or less.\n\n&nbsp\;\n
 What to bring\n\n 	Headtorch\n 	Emergency blanket (can be bought from gear
  cupboard for $5)\n 	Swimmers (for under your wetsuit)\n 	Wool or wetsuit 
 socks\n 	Thermals\n 	Raincoat\n 	Old shoes with good grip\n 	2L of water\n
  	Lunch\n 	Snacks\n 	Hiking clothes (will get wet on the walk out)\n 	Dry 
 clothes and a towel (to be left at the campsite)\n 	Medications you requir
 e (e.g asthma puffer\, epipen)\n\nWhat is your favourite thing to do in yo
 ur free time?\n\nAll technical gear not mentioned here (Wetsuits\, Helmets
 \, Harnesses etc...) will be provided on the day.\n\n&nbsp\;\nIn your comm
 ent please let us know\n\n 	Your fitness\n 	Your swimming ability\n 	Your 
 canyoning/ outdoor experience\n\nPlease message Jason on facebook with any
  questions.\n\nNote: You need to be approved for the main Boree Log event 
 to attend these trips. Please sign up for only ONE trip per day. If you ge
 t rejected you can then sign up for another trip\, this just makes it easi
 er for volunteer trip leaders. Please be aware that as the weather is unpr
 edictable\, trip leaders may need to alter trips accordingly
CATEGORIES:Boree Log,Canyoning
LOCATION:https://maps.app.goo.gl/dJtn7RR8Us7cyHJf6
END:VEVENT
BEGIN:VTIMEZONE
TZID:Australia/Sydney
X-LIC-LOCATION:Australia/Sydney
BEGIN:DAYLIGHT
DTSTART:20251005T030000
TZOFFSETFROM:+1000
TZOFFSETTO:+1100
TZNAME:AEDT
END:DAYLIGHT
END:VTIMEZONE
END:VCALENDAR