BEGIN:VCALENDAR
VERSION:2.0
PRODID:-//wp-events-plugin.com//7.2.3.1//EN
TZID:Australia/Sydney
X-WR-TIMEZONE:Australia/Sydney
BEGIN:VEVENT
UID:2376@unswoc.org
DTSTART:20190322T190000Z
DTEND:20190323T080000Z
DTSTAMP:20190319T115151Z
URL:https://unswoc.org/wordpress/events/saturday-bl-claustral-canyon-inter
 mediate-only/
SUMMARY:SATURDAY BL: Claustral Canyon! [Intermediate ONLY]
DESCRIPTION:\nAah\, Claustral. The gem of Blueys canyons.\n3 incredible wat
 erfall abseils into one of the deepest\, darkest\, longest\, greenest slot
 s in the Blue Mountains.\nJoin us on the Saturday of Boree Log trip explor
 ing this amazing environment\, with a side-trip up Thunder Gorge\, a cavin
 g-like scramble to a glow worm cave! We'll start early on Saturday morning
 \, aiming to leave the campsite by 0800.\n\nYou MUST have had previous abs
 eiling experience\, be physically fit and prepared for a long day - up to 
 11hrs. The hike out is steep and fairly long. You must also be approved f
 or Boree Log to attend.\n\nIf you're interested\, or you have any question
 s\, please message Ash Brennan or Sid Tinney on facebook with relevant 
 abseiling/outdoor experience.\n\nGEAR: (* = can borrow from UNSWOC)\nPleas
 e note that this is a long day\, with very few bailout options. Double\, t
 riple check you have all of the non-asterisk'd items on this list BEFORE l
 eaving Sydney. Items borrowed from the club will be organised on Saturday 
 morning.\n\n 	Canyoning gear:\n- Harness*\n- Helmet*\n- 3x locking carabin
 er*\n- 1x ATC\n- 1x 120cm safety sling*\n- Prusik cord*\n- Drybag*\n- Head
 torch (Ideally waterproof/resistant)\n- Backpack that can fit ALL your gea
 r in and that can get wet.\n 	Clothing:\n- Wetsuit*\n- Enclosed shoes with
  good grip\n- Wool socks\n- Boardshorts to wear on top of wetsuit\n- Therm
 als to wear under your wetsuit (optional\, but helpful)\n- Warm\, lightwei
 ght jacket to put in your dry bag. (100% mandatory. This is in case we get
  stuck\, and you need to change into something warm)\n 	Food:\n- 1L Water 
 bottle (FULL when we leave camp)\n- Substantial lunch (pack it in a waterp
 roof container\, and make sure it's vaguely crush-proof)\n- Snacks\n- Choc
 olate or something nice to share!\n 	Miscellaneous:\n- Any personal medici
 ne (asthma puffer\, Epipen etc)\n- A pair of thongs/flipflops to leave in 
 the car (since your shoes will get wet)\n- Phone or camera for photos [opt
 ional\, and only if you're prepared for it to get wet if your drybag leaks
 ! Bring a ziploc bag or two to protect it]\n\n&nbsp\;\n\n
CATEGORIES:Abseiling,Boree Log,Canyoning
END:VEVENT
END:VCALENDAR