BEGIN:VCALENDAR
VERSION:2.0
PRODID:-//wp-events-plugin.com//7.2.3.1//EN
TZID:Australia/Sydney
X-WR-TIMEZONE:Australia/Sydney
BEGIN:VEVENT
UID:3687@unswoc.org
DTSTART;TZID=Australia/Sydney;VALUE=DATE:20251018
DTEND;TZID=Australia/Sydney;VALUE=DATE:20251019
DTSTAMP:20251005T225537Z
URL:https://unswoc.org/wordpress/events/saturday-bl-claustral-canyon-inter
 mediate-advanced/
SUMMARY:[FULL] SATURDAY BL - CLAUSTRAL Canyon [Intermediate/Advanced]
DESCRIPTION:Jason\, Leo and I (Sudarshan) will be running an intermediate/a
 dvanced trip through Claustral Canyon on the Saturday of Boree Log. Come j
 oin us for one of the best canyons in the Blueies.\n\nYou need to be appro
 ved for the main Boree Log event to attend these trips. Please sign up for
  only ONE trip per day. If you get rejected you can then sign up for anoth
 er trip\, this just makes it easier for volunteer trip leaders. Please be 
 aware that as the weather is unpredictable\, trip leaders may need to alte
 r trips accordingly.\n\nThis is a long day out (8+ hours) and involves sev
 eral long and cold swims\, tricky abseils through the "Blackhole of Calcut
 ta"\, lots of scrambling\, and a long\, tricky walk out. You will be rewar
 ded with some impressive canyon formation\, glowworms\, and some glamour p
 hotos on top of "Hulk's Fist". It is important that all participants have 
 experience in wet canyons. Have a read of the track notes here.\n\n&nbsp\;
 \n\nPlease make you sure bring ALL required gear. Some gear is available t
 o borrow from camp but it is limited - if you have any of your own please 
 bring it!\n\nGear available to borrow from the club:\n\n 	Harness\n 	Helme
 t\n 	3x locking carabiners\n 	1x Figure 8 / Descender\n 	1x Safety sling\
 n 	Drybag\n 	Wetsuit (5mm preferable)\n\nOther gear you MUST bring:\n\n 	
 Backpack that can fit ALL your gear and that can get wet (30L+)\n 	Clothi
 ng:\n\n 	Enclosed shoes with good grip\, suitable for water and bushwalki
 ng\n 	Wool or neoprene socks\n 	Boardshorts to wear on top of wetsuit (c
 ompulsory to protect the club wetsuits)\n 	Thermals and raincoat\n 	Swimme
 rs for under wetsuit\n 	NO COTTON! (this includes socks\, shirts\, pants\
 , undies\, etc)\n\n\n 	Food:\n\n 	2L of water (minimum)\n 	Lunch\n 	Snacks
  to share (with me)\n\n\n 	Other:\n\n 	Medication (asthma puffer\, Epipen
  etc)\n 	Headtorch + spare batteries\n 	Emergency blanket – (can buy fro
 m Gear Cupboard for $5 or from chemists\, shops\, etc)\n 	Parachute (optio
 nal\, will help skip the abseils)\n\n\n\n&nbsp\;\n\nTo let me know you hav
 e read this far please tell me how many grains of sand you think would fit
  inside The Hulk's actual fist.\n\nIn your comment please also put:\n\n 	Y
 our fitness level\n 	Your swimming ability\n 	Your canyoning experience\n 
 	What snack you will be bringing to share with me :)\n\nIf you have any qu
 estions on your suitability for the trip please send me a message on Face
 book.
ATTACH;FMTTYPE=image/jpeg:https://unswoc.org/wordpress/wp-content/uploads/
 2025/10/IMG_5560-scaled.jpg
CATEGORIES:Boree Log,Canyoning
LOCATION:http://off%20Bells%20Line%20of%20Road
END:VEVENT
BEGIN:VTIMEZONE
TZID:Australia/Sydney
X-LIC-LOCATION:Australia/Sydney
BEGIN:DAYLIGHT
DTSTART:20251005T030000
TZOFFSETFROM:+1000
TZOFFSETTO:+1100
TZNAME:AEDT
END:DAYLIGHT
END:VTIMEZONE
END:VCALENDAR