BEGIN:VCALENDAR
VERSION:2.0
PRODID:-//wp-events-plugin.com//7.2.3.1//EN
TZID:Australia/Sydney
X-WR-TIMEZONE:Australia/Sydney
BEGIN:VEVENT
UID:3238@unswoc.org
DTSTART;TZID=Australia/Sydney:20230318T073000
DTEND;TZID=Australia/Sydney:20230318T183000
DTSTAMP:20230313T000737Z
URL:https://unswoc.org/wordpress/events/saturday-bl-claustral-canyon-inter
 mediate-adv/
SUMMARY:[FULL] SATURDAY BL - Claustral Canyon (Intermediate/Adv)
DESCRIPTION:Saturday Boree Log Claustral Canyon (Intermediate)\n\n&nbsp\;\n
 \nWhat: Claustral Canyon trip (perhaps on of the best canyons)\n\nWhen: Sa
 turday 18th March 7:30am - 7:00pm (Approx 8-10 hrs)\n\nWhere: for those ca
 mping @ cathedral of ferns we will depart at 7:30am. If you are coming dir
 ect from Sydney get in touch with Brendan.\n\nRating: 11/10 quality. Inter
 mediate\, tough walk out! Please leave any experience in comments below so
  we can have a mix of abilities  (See below pic for a glimpse of awesome 
 canyon section)\n\n\n\nHow to sign up: signups below\, leave comment with 
 experience\, please let me know if you have a car and how many spots. You 
 must be signed up to main Boree log event. Opens 10am Saturday 11th\n\nQue
 stions: Contact Brendan Conneely or Oliver N (safety@unswoc.org) or Via Fa
 cebook\n\nNotes:https://ozultimate.com/canyoning/track_notes/claustral.htm
 l\n\nMandatory Gear:\n\nGear can be borrowed from UNSWOC on Friday night f
 rom Cathedral of ferns campground. Gear not marked below as “borrow from
  club” must be BYO. Failure to bring safety gear\, you’ll not be able 
 to attend\n\n 	Space blanket / emergency blanket (from chemist or purchase
  from club)\n 	Head torch (and batteries)\n 	Helmet (BYO or borrow club)\n
  	Harness (BYO or borrow club)\n 	Figure 8\, 2x Carabiner and safety sling
  ( BYO or borrow club)\n 	Wetsuit (BYO or borrow club)\n 	Drybag (BYO or b
 orrow club)\n 	Backback (BYO - approx 35L ideal)\n 	Wetsuit socks &amp\; g
 loves (ideal/ optional - BYO)\n 	Warm woolen socks (BYO)\n 	Spare clothes:
  thermals\, beanie &amp\; jumper for emergencies. (BYO Mandatory to have a
 t least beanie and top/bottom thermals)\n 	Old Raincoat (BYO optional - ke
 eps you warmer in the canyon)\n 	Synthetic sports/ similar clothing for wa
 lk in/out (BYO) (Comfy\, quick dry\, sun protection)\n 	Boardshots/ synthe
 tic shorts to wear over top of wetsuit (BYO) Mandatory for club wetsuits\n
  	Sun protection (Hat / sunscreen)\n 	Water (2L min) &amp\; electrolytes (
 BYO)\n 	Lunch\, snacks (BYO)  You have to fuel yourself for 8-10 hrs!\n\n
 Personal medications\, (asthma\, anaphylaxis\, diabetes etc) you may need 
 on trip. Canyon environments are 3 - 24 hrs from medical care. Please let 
 your trip leader know of any concerns.\n\nBrendan\n\n&nbsp\;\n\n&nbsp\;\n\
 n&nbsp\;
CATEGORIES:Boree Log,Canyoning
END:VEVENT
BEGIN:VTIMEZONE
TZID:Australia/Sydney
X-LIC-LOCATION:Australia/Sydney
BEGIN:DAYLIGHT
DTSTART:20221002T030000
TZOFFSETFROM:+1000
TZOFFSETTO:+1100
TZNAME:AEDT
END:DAYLIGHT
END:VTIMEZONE
END:VCALENDAR