BEGIN:VCALENDAR
VERSION:2.0
PRODID:-//wp-events-plugin.com//7.2.3.1//EN
TZID:Australia/Sydney
X-WR-TIMEZONE:Australia/Sydney
BEGIN:VEVENT
UID:2371@unswoc.org
DTSTART;VALUE=DATE:20190323
DTEND;VALUE=DATE:20190324
DTSTAMP:20190311T211324Z
URL:https://unswoc.org/wordpress/events/saturday-bl-canyoning-trip-to-gero
 nimo/
SUMMARY:SATURDAY BL - Canyoning Trip to Geronimo!
DESCRIPTION:SATURDAY BOREE LOG - BEGINNER/INTERMEDIATE CANYONING TRIP TO GE
 RONIMO\n\nKieran and I (Maria) will be leading a beginner/intermediate can
 yoning trip on SATURDAY for Boree Log. We will explore the beautiful Geron
 imo canyon in the Wollangambe River (find all the details here: https://o
 zultimate.com/canyoning/track_notes/geronimo.htm). You must be approved fo
 r Boree Log to attend.\n\n\n\nThe plan is to drive from the campground whe
 re we are camping on Friday night (Cathedral Reserve at Mount Wilson) to t
 he start of the hike in (2 min drive\, convenient hey?)\, hike to the ent
 rance of the canyon\, put the wetsuits on\, scramble down the river\, comp
 lete the 5 abseils and swims in the canyon\, and hike back to the car for 
 a nice free dinner at the campground. It will be an awesome day out and yo
 u will need:\n\n 	To be fit (6-8 hours workout)\, know how to swim and kno
 w how to abseil. Tick off the 3 of them.\n 	Canyoning gear: A harness*\, a
  helmet*\, a locking carabiner* attached to an ATC*\, a second locking car
 abiner* attached to a safety sling*\, and a third locking carabiner* attac
 hed to a prusik cord*. Also a wetsuit*\, a drybag*\, a torch (preferably h
 eadtorch)\, and a backpack that can fit ALL your gear in and that can get 
 wet (* = club will provide it).\n 	For clothing: Enclosed shoes with good 
 grip\, wollen socks\, boardshorts to wear on top of the wetsuit (this is c
 ompulsory if you borrow the wetsuit from the club\, to protect it)\, warm 
 clothes such as thermals/raincoat that you'll put in your dry bag (in case
  we get stuck you need to carry something warm and dry).\n 	For eating: 2 
 l of water\, food or snacks\, chocolate for the trip leaders please.\n 	Ot
 her gear: sunscreen\, medicines if you need them (asthma puffer\, etc)\, a
  pair of flipflops to leave in the car (since your shoes will get wet)\, a
 nd a phone full of battery.\n\nIf you have any questions message me Maria 
 LC on facebook. Write down YOUR EXPERIENCE in the comments and whether you
  have A CAR :) See you there!
CATEGORIES:Canyoning
END:VEVENT
END:VCALENDAR