BEGIN:VCALENDAR
VERSION:2.0
PRODID:-//wp-events-plugin.com//7.2.3.1//EN
TZID:Australia/Sydney
X-WR-TIMEZONE:Australia/Sydney
BEGIN:VEVENT
UID:3104@unswoc.org
DTSTART;TZID=Australia/Sydney;VALUE=DATE:20221015
DTEND;TZID=Australia/Sydney;VALUE=DATE:20221016
DTSTAMP:20221014T094044Z
URL:https://unswoc.org/wordpress/events/saturday-bl-canyon-intermediate/
SUMMARY:Saturday BL - Canyon (Intermediate)
DESCRIPTION:Canyon TBA (Depending on weather and group experience)\nNadav w
 ill run a canyon/chasm with a series of technical abseils\, beautiful scen
 ery!\n\nWhat you need to know? Expect a great day canyoning for around 8+ 
 hrs round trip\, a walk up the river at the end\, and an easy roped climb 
 to exit (or scramble depending on canyon).\n\nEssential gear:\n\n 	Space b
 lanket/emergency blanket (mandatory!).\n 	Headlamp (mandatory) w/ batterie
 s\n 	Lunch/snacks and water (1.5L) for 8 hrs of potential canyoning. Fueli
 ng yourselves is essential\n 	Spare dry clothes/thermals/jumper/beanie\n 	
 Dry bag to keep electronics/spare clothes warm.\n 	Rain Coat. Provides win
 d protection and is crucial\n 	Appropriate clothing - no cotton - when wet
  it loses heat fast! Think hiking clothes with boardies/swim shorts to pro
 tect wetsuit from damage.\n 	Shoes with good grip and suitable for water -
  trainers with warm socks.\n 	Wet-suit (BYO if you have one\, else borrow 
 from Boree Log Gear Pool)\n 	Wet-suit booties/gloves (It will be cold in A
 utumn). Woollen socks are an ok but nowhere near as good backup\n 	Helmet 
 (BYO if you have one\, else borrow from Boree Log Gear Pool)\n 	Harness (B
 YO if you have one\, else borrow from Boree Log Gear Pool)\n 	Descender/ F
 igure 8 and Karabiner (BYO if you have one\, else borrow from Boree Log Ge
 ar Pool)\n 	Safety Sling and Karabiner (BYO if you have one\, else borrow 
 from Boree Log Gear Pool)\n 	+30L backpack to keep your drybag/gear. Expec
 t it to get wet/scratched.\n 	Any medication/medical devices you need.\n\n
 &nbsp\;\n\n&nbsp\;\n\nYou must also be Approved for the main Boree Log Eve
 nt.\n\nPlease comment any experience/hype/questions you have in the commen
 t box below (Make sure to say something! I need to know your experience to
  be able to choose an appropriate canyon). Also comment your car and the n
 umber of seats available.
ATTACH;FMTTYPE=image/jpeg:https://unswoc.org/wordpress/wp-content/uploads/
 2022/08/20220123_015436000_iOS-Brendan-Conneely.jpg
CATEGORIES:Boree Log,Canyoning
END:VEVENT
BEGIN:VTIMEZONE
TZID:Australia/Sydney
X-LIC-LOCATION:Australia/Sydney
BEGIN:DAYLIGHT
DTSTART:20221002T030000
TZOFFSETFROM:+1000
TZOFFSETTO:+1100
TZNAME:AEDT
END:DAYLIGHT
END:VTIMEZONE
END:VCALENDAR