BEGIN:VCALENDAR
VERSION:2.0
PRODID:-//wp-events-plugin.com//7.2.3.1//EN
TZID:Australia/Sydney
X-WR-TIMEZONE:Australia/Sydney
BEGIN:VEVENT
UID:3339@unswoc.org
DTSTART;TZID=Australia/Sydney;VALUE=DATE:20231014
DTEND;TZID=Australia/Sydney;VALUE=DATE:20231015
DTSTAMP:20231012T132741Z
URL:https://unswoc.org/wordpress/events/saturday-bl-bungonia-cave-explorat
 ion/
SUMMARY:[FULL] SATURDAY BL - BUNGONIA Cave Exploration
DESCRIPTION:Heyo everyone!\n\nOn Saturday of Boree Log\, Harry and I (Liam)
  will be taking a group to Bungonia for some rad Cave Exploration!\n\nThis
  is a beginner friendly trip that will involve some of the best walk-in ca
 ves Bungonia has to offer! Whether you are new to caving all together or w
 ould like to learn more about this gnarly sport\, sign ups can be found be
 low. MAKE SURE YOU READ ALL THE INFORMATION FIRST.\n\nThis caving trip wil
 l be all about diving in and exploring\, so be prepared for a day packed w
 ith scrambling\, squeezing\, crawling and discovering. There will be no ro
 pework on this trip\, and is suitable for energetic and enthusiastic explo
 rers of all skill levels.\n\n\n\nWe will be leaving from the Boree Log bas
 e camp (Bendeela Campground) EARLY Saturday morning\, Bungonia is roughly 
 1:20 hrs drive away. We will organise car pooling so please tell us in the
  sign up comment if you have a car and how many people you can take.\n\nWe
  will head back to Bendeela in the afternoon/evening\, ready for party and
  Sunday trips.\n\n\n\nAs seen above\, the caves can get dirty! keep this i
 n mind when deciding on your gear for the day!\n\nWhat YOU need to bring:\
 n\n 	Enclosed shoes\n 	Long sleeved clothes/long pants that you are comfor
 table getting dirty! (there may be club overalls available to be borrowed)
 \n 	Helmet (available to be borrowed from the club)\n 	Headtorch\n 	Spare 
 batteries for headtorch\n 	Secondary torch\n 	food/snacks for the day\n 	a
 t least 2L water\n 	sunscreen/sunglasses/a big floppy hat to keep the cave
  sun off ya\n 	bag to carry everything\n\n&nbsp\;\n\nIf you have read all 
 of this information and this sounds like a trip you’re keen for\, signup
 s will open below from 9am Sunday 8th October!\n\nNOTE Australian Citizens
  – This trip falls on the day of the 2023 Australian Indigenous Voice Re
 ferendum. If you are an Australian citizen you are required to vote so you
  must have done this beforehand! WE WILL NOT BE TAKING PEOPLE TO FIND VO
 TING CENTRES!\n\nYou need to be approved for the main Boree Log event to a
 ttend these trips. Please sign up for only ONE trip per day. If you get r
 ejected you can then sign up for another trip\, this just makes it easier 
 for volunteer trip leaders. Please be aware that as the weather is unpredi
 ctable\, trip leaders may need to alter trips accordingly.\n\nPlease inclu
 de in the comment: your experience (outdoors background and whether you ha
 ve any caving experience)\,  whether you have a car and how many people y
 ou can take\, and name your favourite kind of rock (just so we know you ha
 ve read all of this information).\n\n&nbsp\;\n\nIf you have any questions 
 please feel free to message Harry or myself.\n\nThanks\,\n\nLiam\n\n&nbsp\
 ;
CATEGORIES:Boree Log,Caving
LOCATION:https://maps.app.goo.gl/u1B7UEcoy3z3rvvq6
END:VEVENT
BEGIN:VTIMEZONE
TZID:Australia/Sydney
X-LIC-LOCATION:Australia/Sydney
BEGIN:DAYLIGHT
DTSTART:20231001T030000
TZOFFSETFROM:+1000
TZOFFSETTO:+1100
TZNAME:AEDT
END:DAYLIGHT
END:VTIMEZONE
END:VCALENDAR