BEGIN:VCALENDAR
VERSION:2.0
PRODID:-//wp-events-plugin.com//7.2.3.1//EN
TZID:Australia/Sydney
X-WR-TIMEZONE:Australia/Sydney
BEGIN:VEVENT
UID:3087@unswoc.org
DTSTART;TZID=Australia/Sydney:20221015T100000
DTEND;TZID=Australia/Sydney:20221015T170000
DTSTAMP:20221009T082012Z
URL:https://unswoc.org/wordpress/events/saturday-bl-bell-supercrag-sport-c
 limbing-beginner-intermediate/
SUMMARY:SATURDAY BL - Bell Supercrag BEGINNER / INTERMEDIATE Sport Climbing
DESCRIPTION:Hi Everyone! Myself (Gabe)\, Mali and Angela will be running a 
 Beginner / Intermediate sport climbing trip\, on the 15th of October.\nYOU
  MUST BE APPROVED FOR BOREE LOG TO ATTEND\n\nWe will be going to 'Bell Sup
 ercrag'\, a very popular climbing crag.\n\nThis crag has many options\, in
 cluding a large variety of beginner-friendly climbs. Moreover\, it has som
 e great views of our impressive blue mountains!\n\nOn this trip\, we will 
 be doing lead climbing and top roping :). If you want to learn how to lead
  climb\, PLEASE COME :)\n\nAny gear that you require can be collected from
  the gear trailer the morning of.\n\n 	Gear: harness\, helmet\, climbing s
 hoes\, ATC + carabiner (if you have your own make sure you bring it!!!)\n 
 	What to bring: sunscreen\, 2L water (minimum!)\, food for the day\, spo
 rty clothes\, a warm jacket\, a day backpack to fit all your stuff inside\
 , a camera\, smiles\, etc.\n\nYou need to be approved for the main Boree L
 og event to attend these trips. Please sign up for only ONE trip per day. 
 If you get rejected you can then sign up for another trip\, this just make
 s it easier for volunteer trip leaders.\nPlease be aware that as the weath
 er is unpredictable\, trip leaders may need to alter trips accordingly.\n\
 nPlease include in the comments: your climbing experience\, whether you ha
 ve a car\, if you are keen to learn how to lead climb\, and what your favo
 urite type of cake is!\n\nIf you have any questions\, feel free to message
  any of us on Facebook (Gabriel Dickinson\, Mail Woods or Angela Ha). Hope
  to see you there! Stay keen!
CATEGORIES:Climbing,Outdoor Climbing
END:VEVENT
BEGIN:VTIMEZONE
TZID:Australia/Sydney
X-LIC-LOCATION:Australia/Sydney
BEGIN:DAYLIGHT
DTSTART:20221002T030000
TZOFFSETFROM:+1000
TZOFFSETTO:+1100
TZNAME:AEDT
END:DAYLIGHT
END:VTIMEZONE
END:VCALENDAR