BEGIN:VCALENDAR
VERSION:2.0
PRODID:-//wp-events-plugin.com//7.2.3.1//EN
TZID:Australia/Sydney
X-WR-TIMEZONE:Australia/Sydney
BEGIN:VEVENT
UID:3233@unswoc.org
DTSTART;TZID=Australia/Sydney:20230318T100000
DTEND;TZID=Australia/Sydney:20230318T170000
DTSTAMP:20230313T131941Z
URL:https://unswoc.org/wordpress/events/saturday-bl-bell-sport-climbing/
SUMMARY:[FULL] SATURDAY BL - Bell Sport Climbing
DESCRIPTION:You need to be approved for the main Boree Log event to attend 
 these trips. Please sign up for only ONE trip per day. If you get rejected
  then you can sign up for another trip\, this just makes it easier for vol
 unteer trip leaders. Please be aware that as the weather is unpredictable\
 , trip leaders may need to alter trips accordingly\nSIGN UPS OPEN ON SATUR
 DAY 11TH MARCH AT 10AM\nHi everyone!\n\nBrendan (crispy) and I (Gabriel) w
 ill be running a sport climbing trip to Bell Supercrag\, specifically the 
 Blowhole Sector.\n\n&nbsp\;\n\nWe’ll meet near the trailer at the Cathed
 ral of Ferns Campground 🏕️ on Saturday morning to collect gear and do
  a roll call.\n\nMost gear is provided including a harness\, helmet\, safe
 ty sling\, locking carabiners\, belay device but you'll need to bring:\n\n
  	Sunscreen\n 	2L water (stay hydrated!)\n 	Food\, snacks to share 😋\n 
 	Comfy clothes and shoes\n 	Warm jacket 🧥\n 	Medication if required 
 💊\n\nOptional to bring:\n\n 	Climbing shoes\, chalk bag 🧗\n\nIn the 
 comments please let me know your climbing experience (indoor/outdoor\, gra
 des\, ability to lead climb/belay)\, if you have a car and how many spots 
 you have\, and your favourite flavour of cake :)\n\nStay keen!!!\n\n&nbsp\
 ;\n\n&nbsp\;
CATEGORIES:Outdoor Climbing
END:VEVENT
BEGIN:VTIMEZONE
TZID:Australia/Sydney
X-LIC-LOCATION:Australia/Sydney
BEGIN:DAYLIGHT
DTSTART:20221002T030000
TZOFFSETFROM:+1000
TZOFFSETTO:+1100
TZNAME:AEDT
END:DAYLIGHT
END:VTIMEZONE
END:VCALENDAR