BEGIN:VCALENDAR
VERSION:2.0
PRODID:-//wp-events-plugin.com//7.2.3.1//EN
TZID:Australia/Sydney
X-WR-TIMEZONE:Australia/Sydney
BEGIN:VEVENT
UID:3553@unswoc.org
DTSTART;TZID=Australia/Sydney;VALUE=DATE:20250322
DTEND;TZID=Australia/Sydney;VALUE=DATE:20250323
DTSTAMP:20250314T021038Z
URL:https://unswoc.org/wordpress/events/saturday-bl-beginner-sport-climbin
 g-bardens-lookout/
SUMMARY:[FULL] SATURDAY BL - BARDENS LOOKOUT Beginner Sport Climbing
DESCRIPTION:Arrivaderchi amigos\,\n\nMaddi and I will be taking a bunch of 
 chillers to Little Triggers wall around Bardens Lookout crag. This is a be
 ginner friendly trip and a great opportunity to meet new people\, eat snac
 ks\, learn some rope skills and most importantly\, have a mandatory view-a
 ppreciation stop on the wall. We will be setting up top ropes but will be 
 very happy to go over some basic lead climbing skills.\n\ncheck out the cr
 ag here:\n\nhttps://www.thecrag.com/en/climbing/australia/blue-mountains/b
 ardens-lookout\n\nTo bring:\n\n 	Clothes appropriate for climbing (should 
 be comfortable\, allow unrestricted movement\, and be alright if they get 
 dirty/torn)\n 	Sunscreen\n 	Warm weather gear incase it gets cold\n 	Day b
 ackpack to carry your belongings\n 	Climbing harness\n 	Climbing helmet\n 
 	Climbing shoes\n 	Belay device (eg ATC) and locking carabiner\n\nItems in
  bold can be borrowed on the day if you do not have your own. You DO NOT
  need to collect them from the gear cupboard prior to Boree Log.\n\n***You
  need to be approved for the main Boree Log event to attend these trips. P
 lease sign up for only ONE trip per day. If you get rejected you can then 
 sign up for another trip\, this just makes it easier for volunteer trip le
 aders. Please be aware that as the weather is unpredictable\, trip leaders
  may need to alter trips accordingly***\n\n&nbsp\;\n\nin your comment\, pl
 ease describe:\n\n1. Your climbing experience (including indoor gyms)\n\n2
 . Anything new you are keen to learn\n\n3. whether you have a car and how 
 many spots you have\n\n4. Honest thoughts on Adam Sandler\, beloved Americ
 an actor and producer\n\nif you have any questions at all\, please feel fr
 ee to shoot Maddi or myself a message. Keen to meet you and then promptly 
 attach you to a rope :))\n\nCheers\,\n\nEmily and Maddi\n\n&nbsp\;\n\n&nbs
 p\;
CATEGORIES:Boree Log,Climbing
LOCATION:https://maps.app.goo.gl/7sknUWjR4PqBA3f26?g_st=com.google.maps.pre
 view.copy
END:VEVENT
BEGIN:VTIMEZONE
TZID:Australia/Sydney
X-LIC-LOCATION:Australia/Sydney
BEGIN:DAYLIGHT
DTSTART:20241006T030000
TZOFFSETFROM:+1000
TZOFFSETTO:+1100
TZNAME:AEDT
END:DAYLIGHT
END:VTIMEZONE
END:VCALENDAR