BEGIN:VCALENDAR
VERSION:2.0
PRODID:-//wp-events-plugin.com//7.2.3.1//EN
TZID:Australia/Sydney
X-WR-TIMEZONE:Australia/Sydney
BEGIN:VEVENT
UID:2556@unswoc.org
DTSTART;TZID=Australia/Sydney;VALUE=DATE:20191026
DTEND;TZID=Australia/Sydney;VALUE=DATE:20191027
DTSTAMP:20191024T032006Z
URL:https://unswoc.org/wordpress/events/saturday-bl-beginner-intermediate-
 climbing-surprise-wall/
SUMMARY:Saturday BL - **TRIP FULL** Beginner/Intermediate Climbing Surprise
  Wall
DESCRIPTION:You must be attending and approved for the Boree Log main event
  to sign up for this trip.\n\nSaturday Boree Log – Beginner/Intermediate
  Climbing Trip to Surprise Wall \n\nJames and I (Cam) will be leading a b
 eginner/intermediate climbing trip to Surprise Wall at Bung Crag. Most of 
 the grades at Surprise Wall are from 17 to 21. This is a great trip if you
 're looking for something a little more challenging than the beginner clim
 bing trips\, if you're comfortable on the walls we're happy to teach how t
 o lead climb. It's gonna be an awesome day out!\nFor more info\, have a lo
 ok here:\nhttps://www.thecrag.com/climbing/australia/gardens-of-stone-area
 /bung-crag/area/301653969\n\n     \nMeaning of Life (grade 21) \n\n\
 n\nWe will set up top ropes for any climbers that are new to climbing outd
 oors. Climbing experience is Preferred. If you are an beginner climber\, y
 ou´re welcome\, but you will find Pagoda Environs or Diesel Wall easier.\
 n\nYou will need:\n\n 	Climbing gear: A harness* and a helmet* (* = could
  be borrowed from the club). Optional but highly recommended: climbing sho
 es\, and chalk bag. We will supply the carabiners and belay devices (no ne
 ed to borrow them from the club).\n 	For clothing: Sport clothes. It can g
 et quite hot or quite chilly\, so be prepared for both(check the weather).
 \n 	For sustenance: 2L of water\, food or snacks\, sweet sweet sugar for J
 ames.\n 	Other gear: Sunscreen\, medicines if you need them (asthma puffe
 r\, etc).\n\nIf you have any questions message James Fischer or Cameron Ha
 rkins on Facebook. Write down YOUR EXPERIENCE in the comments\, what gear 
 you have\, any allergies\, whether you have A CAR (and the model) and you
 r favourite season.\n\n\n\n\n&nbsp\;\n\n&nbsp\;\n\n\n&nbsp\;\n\n&nbsp\;\n\
 n&nbsp\;
CATEGORIES:Outdoor Climbing
END:VEVENT
BEGIN:VTIMEZONE
TZID:Australia/Sydney
X-LIC-LOCATION:Australia/Sydney
BEGIN:DAYLIGHT
DTSTART:20191006T030000
TZOFFSETFROM:+1000
TZOFFSETTO:+1100
TZNAME:AEDT
END:DAYLIGHT
END:VTIMEZONE
END:VCALENDAR