BEGIN:VCALENDAR
VERSION:2.0
PRODID:-//wp-events-plugin.com//7.2.3.1//EN
TZID:Australia/Sydney
X-WR-TIMEZONE:Australia/Sydney
BEGIN:VEVENT
UID:3396@unswoc.org
DTSTART;TZID=Australia/Sydney;VALUE=DATE:20240316
DTEND;TZID=Australia/Sydney;VALUE=DATE:20240317
DTSTAMP:20240305T003901Z
URL:https://unswoc.org/wordpress/events/saturday-bl-beginner-intermediate-
 canyon-upper-bowens-south/
SUMMARY:[FULL] SATURDAY BL - UPPER BOWENS SOUTH Beginner/intermediate Canyo
 n
DESCRIPTION:Alfie and I (Margot) will be running a trip on Saturday for Bor
 ee log to do Upper Bowens South Canyon.\n\nThe canyon itself is a beauty\,
  but also moderately long\, so this might be a long day – perhaps 7-10hr
 s in the canyon.\nYou can check out more of the canyon’s details here: h
 ttps://ozultimate.com/canyoning/track_notes/bowens_creek_south.htm\n\n&nbs
 p\;\n\nYou will need:\n\n 	To be keen and ready for a longish day\n 	A h
 eadtorch\n 	A dry bag*\n 	A backpack to fit all your gear and can get wet*
 \n 	Wetsuit (preferably 5mm)*\n 	Rain jacket\n 	Thermals\n 	Wool socks\n 	
 Shoes with grip\n 	Helmet*\n 	Harness*\n 	Descender (preferably an 8 style
 )*\n 	Personal safety*\n 	Locking Carabiner*\n 	An emergency blanket (can
  be bought from the gear cupboard – $5)\n 	Food and water\n\n*Can be bor
 rowed from the club supplies but if you have your own bring it as supplies
  may be limited\n\nYou need to be approved for the main Boree Log event to
  attend these trips. Please sign up for only ONE trip per day. If you get 
 rejected you can then sign up for another trip\, this just makes it easier
  for volunteer trip leaders. Please be aware that as the weather is unpred
 ictable\, trip leaders may need to alter trips accordingly.\n\nTo let me k
 now you have read this far let me know what volume of dirt you think you
 ’ve eaten (accidentally or on purpose) in your life so far? Bonus- how m
 uch do you hope to eat in your lifetime.\n\nKeen for a great day canyoning
  with you all!
CATEGORIES:Boree Log,Canyoning
LOCATION:https://goo.gl/maps/D5wUjEeLWnZpgYGp6
END:VEVENT
BEGIN:VTIMEZONE
TZID:Australia/Sydney
X-LIC-LOCATION:Australia/Sydney
BEGIN:DAYLIGHT
DTSTART:20231001T030000
TZOFFSETFROM:+1000
TZOFFSETTO:+1100
TZNAME:AEDT
END:DAYLIGHT
END:VTIMEZONE
END:VCALENDAR