BEGIN:VCALENDAR
VERSION:2.0
PRODID:-//wp-events-plugin.com//7.2.3.1//EN
TZID:Australia/Sydney
X-WR-TIMEZONE:Australia/Sydney
BEGIN:VEVENT
UID:2546@unswoc.org
DTSTART;TZID=Australia/Sydney;VALUE=DATE:20191026
DTEND;TZID=Australia/Sydney;VALUE=DATE:20191027
DTSTAMP:20191024T080718Z
URL:https://unswoc.org/wordpress/events/saturday-bl-beginner-climbing-dies
 el-wall/
SUMMARY:Saturday BL – Beginner Climbing - Diesel Wall
DESCRIPTION:You must be attending and approved for the Boree Log main event
  to sign up for this trip.\n\nSaturday Boree Log – Beginner Climbing Tri
 p to Diesel Wall (Bung Crag)\n\nScott and I (Tadeh) will be leading a begi
 nner friendly climbing trip to Diesel Wall at Bung Crag. Diesel Wall has p
 lenty of climbs graded from 13 to 19. For more info\, have a look here: ht
 tps://www.thecrag.com/climbing/australia/gardens-of-stone-area/bung-crag/a
 rea/197315802\n\n\n\n\nThe plan is to meet directly at the crag carpark as
  Scott and I will be driving up from Sydney on Saturday morning. There wil
 l be a call in the morning to assemble the groups for each trip. We will n
 ot be there but we will organise logistics before the weekend anyway. Ther
 e will be many cars going to the same area. We will most likely park at th
 e left carpark near point D and walk the firetrail to the crag\, unless we
  have 4WD vehicles available.\n\n\n\n\n\n&nbsp\;\n\nWe will set up top rop
 es for any beginners that are new to climbing outdoors. No climbing experi
 ence is required. If you are an intermediate climber\, you´re welcome to 
 do your own thing or we can help you learn how to lead climb. It will be a
 n awesome day out and you will need:\n\n 	Climbing gear: A harness* and a 
 helmet* (* = could be borrowed from the club). Optional but highly recomme
 nded: climbing shoes\, and maybe a chalk bag. We will supply the carabiner
 s and belay devices (no need to borrow them from the club).\n 	For clothin
 g: Sport clothes. It can get quite hot or quite chilly\, so be prepared f
 or both.\n 	For sustenance: 2L of water\, food or snacks\, sweet sweet sug
 ar for the trip leaders.\n 	Other gear: Sunscreen\, medicines if you need
  them (asthma puffer\, etc).\n\nIf you have any questions message Scott or
  me (Tad Karapetian) on facebook. Write down YOUR EXPERIENCE in the commen
 ts\, what gear you have\, whether you have A CAR (and the model) and your
  favourite famous athlete.\n\n
CATEGORIES:Outdoor Climbing
END:VEVENT
BEGIN:VTIMEZONE
TZID:Australia/Sydney
X-LIC-LOCATION:Australia/Sydney
BEGIN:DAYLIGHT
DTSTART:20191006T030000
TZOFFSETFROM:+1000
TZOFFSETTO:+1100
TZNAME:AEDT
END:DAYLIGHT
END:VTIMEZONE
END:VCALENDAR