BEGIN:VCALENDAR
VERSION:2.0
PRODID:-//wp-events-plugin.com//7.2.3.1//EN
TZID:Australia/Sydney
X-WR-TIMEZONE:Australia/Sydney
BEGIN:VEVENT
UID:2374@unswoc.org
DTSTART;VALUE=DATE:20190323
DTEND;VALUE=DATE:20190324
DTSTAMP:20190312T143758Z
URL:https://unswoc.org/wordpress/events/saturday-bl-beginner-climbing-dam-
 cliffs/
SUMMARY:SATURDAY BL - BEGINNER CLIMBING @ Dam Cliffs
DESCRIPTION:Saturday Boree Log - BEGINNER CLIMBING @ Dam Cliffs\nNever rock
  climbed before but keen to try? Have done some climbing indoors and want 
 to go outdoors? Have ZERO experience but TONS of enthusiasm?\n\nIf you ans
 wered YES! to any of the above\, then this is the trip for you! Greta\, S
 tephen\, Jess and I (Wen Jun) are running a beginner outdoor climbing trip
  to Dam Cliffs (if you clicked on that link and none of it made any sense
 \, no worries!) where we'll teach you everything you need to know to get s
 tarted with outdoor climbing and/or rock climbing in general.\n\nTo join t
 his trip\, you must have already secured a spot in Boree Log. The plan is
  to drive from the campground in Mount Wilson to the crag on Saturday mor
 ning. Here we will go through the basics of rock climbing (harnessing\, ty
 ing-in\, belaying and climbing)\, and set up top ropes for everyone to cl
 imb.\n\nWe will spend most of the day here so remember to bring sufficien
 t water and your lunch! There are many climbing routes of various difficu
 lties to choose from\, and also a dam nearby where you can swim in (or a 
 deep-water solo if you're feeling adventurous).\n\nGear requirements are f
 airly minimal but here's a list of things you'll need:\n\n 	Water! (suffic
 ient for the day\, ~2L)\n 	Lunch and snacks\n 	Clothes suitable for the we
 ather (rain jacket if raining\, warm clothes if cold etc.)\n 	Sunscreen\n 
 	Harness\, helmet\, belay device - the club will supply these on the day\,
  but if you have your own bring them.\n 	(Optional) Climbing shoes and cha
 lk - the club has some but may or may not fit. It is OK to climb with norm
 al shoes\, but climbing shoes do help.\n 	(Optional) Swimmers and towel - 
 only needed if you wish to swim in the dam or attempt the deep water solo.
 \n\nWhen you're making a booking please comment your experience (if you ha
 ve any)\, as well as if you own a car and is willing to drive. If you hav
 e any questions please feel free to ask - drop us a message via Facebook o
 r send me an email. Get keen!\n\n \n\nYou must be approved for Boree Log
  to attend this trip!
CATEGORIES:Outdoor Climbing
END:VEVENT
END:VCALENDAR