BEGIN:VCALENDAR
VERSION:2.0
PRODID:-//wp-events-plugin.com//7.2.3.1//EN
TZID:Australia/Sydney
X-WR-TIMEZONE:Australia/Sydney
BEGIN:VEVENT
UID:3330@unswoc.org
DTSTART;TZID=Australia/Sydney;VALUE=DATE:20231014
DTEND;TZID=Australia/Sydney;VALUE=DATE:20231015
DTSTAMP:20231009T135820Z
URL:https://unswoc.org/wordpress/events/saturday-bl-beginner-canyoning-low
 er-macquarie-pass/
SUMMARY:[FULL] SATURDAY BL - Beginner - Canyoning Lower Macquarie Pass
DESCRIPTION:Nadav and Lucas are running a canyon at Lower Macquarie Pass th
 is Boree Log (Canyon description here). Macquarie Pass is a very exciting 
 day full of abseils\, slides and a few jumps!\n\n\n\n(image taken from Ozu
 ltimate)\n\nWHAT TO BRING:\n\n 	Dry bag*\n 	Helmet*\n 	Harness*\n 	Descend
 er (figure 8)*\n 	Safety Sling*\n 	2 x locking carabiners*\n 	Enclosed sho
 es that you can walk in while wet\n 	Warm socks (not cotton!!)\n 	Wetsuit*
 \n 	Shorts to go over and protect your wetsuit\n 	Water (at least 2L)\n 	H
 eadtorch\n 	Emergency blanket (can be purchased from the club for $5)\n 	W
 arm clothes (bring a dry set of thermals)\n 	Backpack to carry stuff in an
 d you're happy to get wet\n 	Food to last the whole day (including some sn
 acks to share)\n\n*Can borrow from the club for FREE. Gear will be organis
 ed at Boree Log.\n\n&nbsp\;\n\nIn the comments please include:\n\n\n 	Your
  canyoning/ abseiling experience\n 	What gear you have/need\n 	The words "
 I understand that if I am an Australian citizen\, I will pre-vote for the 
 referendum"\n\n&nbsp\;\n\nYou will need to be signed up the main boree log
  event to come on this trip!\n\n&nbsp\;\n\nCheers\,\n\nAaron (Trip-leader-
 in-training)\n\n&nbsp\;
CATEGORIES:Boree Log,Canyoning
LOCATION:https://www.google.com/maps/place/34%C2%B033'56.5%22S+150%C2%B039'
 44.3%22E/@-34.5656792,150.6597431,17z/data=!4m4!3m3!8m2!3d-34.5656792!4d15
 0.662318?hl=en-AU&entry=ttu
END:VEVENT
BEGIN:VTIMEZONE
TZID:Australia/Sydney
X-LIC-LOCATION:Australia/Sydney
BEGIN:DAYLIGHT
DTSTART:20231001T030000
TZOFFSETFROM:+1000
TZOFFSETTO:+1100
TZNAME:AEDT
END:DAYLIGHT
END:VTIMEZONE
END:VCALENDAR